BEGIN:VCALENDAR
VERSION:2.0
PRODID:-//Poplar Farm School - ECPv6.15.20//NONSGML v1.0//EN
CALSCALE:GREGORIAN
METHOD:PUBLISH
X-WR-CALNAME:Poplar Farm School
X-ORIGINAL-URL:https://poplar-cit.co.uk
X-WR-CALDESC:Events for Poplar Farm School
REFRESH-INTERVAL;VALUE=DURATION:PT1H
X-Robots-Tag:noindex
X-PUBLISHED-TTL:PT1H
BEGIN:VTIMEZONE
TZID:Europe/London
BEGIN:DAYLIGHT
TZOFFSETFROM:+0000
TZOFFSETTO:+0100
TZNAME:BST
DTSTART:20240331T010000
END:DAYLIGHT
BEGIN:STANDARD
TZOFFSETFROM:+0100
TZOFFSETTO:+0000
TZNAME:GMT
DTSTART:20241027T010000
END:STANDARD
BEGIN:DAYLIGHT
TZOFFSETFROM:+0000
TZOFFSETTO:+0100
TZNAME:BST
DTSTART:20250330T010000
END:DAYLIGHT
BEGIN:STANDARD
TZOFFSETFROM:+0100
TZOFFSETTO:+0000
TZNAME:GMT
DTSTART:20251026T010000
END:STANDARD
BEGIN:DAYLIGHT
TZOFFSETFROM:+0000
TZOFFSETTO:+0100
TZNAME:BST
DTSTART:20260329T010000
END:DAYLIGHT
BEGIN:STANDARD
TZOFFSETFROM:+0100
TZOFFSETTO:+0000
TZNAME:GMT
DTSTART:20261025T010000
END:STANDARD
BEGIN:DAYLIGHT
TZOFFSETFROM:+0000
TZOFFSETTO:+0100
TZNAME:BST
DTSTART:20270328T010000
END:DAYLIGHT
BEGIN:STANDARD
TZOFFSETFROM:+0100
TZOFFSETTO:+0000
TZNAME:GMT
DTSTART:20271031T010000
END:STANDARD
END:VTIMEZONE
BEGIN:VEVENT
DTSTART;VALUE=DATE:20251212
DTEND;VALUE=DATE:20251213
DTSTAMP:20260422T230135
CREATED:20251006T151941Z
LAST-MODIFIED:20251006T151941Z
UID:4209-1765497600-1765583999@poplar-cit.co.uk
SUMMARY:Christmas Jumper Day
DESCRIPTION:
URL:https://poplar-cit.co.uk/event/christmas-jumper-day/
END:VEVENT
BEGIN:VEVENT
DTSTART;TZID=Europe/London:20251212T093000
DTEND;TZID=Europe/London:20251212T110000
DTSTAMP:20260422T230135
CREATED:20251204T114952Z
LAST-MODIFIED:20251204T114952Z
UID:4407-1765531800-1765537200@poplar-cit.co.uk
SUMMARY:Father Christmas visiting classes
DESCRIPTION:
URL:https://poplar-cit.co.uk/event/father-christmas-visiting-classes/
END:VEVENT
BEGIN:VEVENT
DTSTART;TZID=Europe/London:20251212T120000
DTEND;TZID=Europe/London:20251212T130000
DTSTAMP:20260422T230135
CREATED:20251006T152004Z
LAST-MODIFIED:20251006T152004Z
UID:4211-1765540800-1765544400@poplar-cit.co.uk
SUMMARY:Christmas Dinner
DESCRIPTION:
URL:https://poplar-cit.co.uk/event/christmas-dinner/
END:VEVENT
BEGIN:VEVENT
DTSTART;TZID=Europe/London:20251215T091500
DTEND;TZID=Europe/London:20251215T101500
DTSTAMP:20260422T230135
CREATED:20251006T152051Z
LAST-MODIFIED:20251006T152051Z
UID:4213-1765790100-1765793700@poplar-cit.co.uk
SUMMARY:Pantomime performance for EYFS & KS1
DESCRIPTION:
URL:https://poplar-cit.co.uk/event/pantomime-performance-for-eyfs-ks1/
END:VEVENT
BEGIN:VEVENT
DTSTART;TZID=Europe/London:20251215T103000
DTEND;TZID=Europe/London:20251215T113000
DTSTAMP:20260422T230135
CREATED:20251006T152115Z
LAST-MODIFIED:20251022T081220Z
UID:4215-1765794600-1765798200@poplar-cit.co.uk
SUMMARY:Pantomime performance for KS2
DESCRIPTION:
URL:https://poplar-cit.co.uk/event/pantomime-performance-for-ks2/
END:VEVENT
BEGIN:VEVENT
DTSTART;TZID=Europe/London:20251215T121000
DTEND;TZID=Europe/London:20251215T133000
DTSTAMP:20260422T230135
CREATED:20251204T115041Z
LAST-MODIFIED:20251204T115041Z
UID:4409-1765800600-1765805400@poplar-cit.co.uk
SUMMARY:The Hive visit to Greenfields School farm
DESCRIPTION:
URL:https://poplar-cit.co.uk/event/the-hive-visit-to-greenfields-school-farm/
END:VEVENT
BEGIN:VEVENT
DTSTART;TZID=Europe/London:20251215T144500
DTEND;TZID=Europe/London:20251215T151500
DTSTAMP:20260422T230135
CREATED:20251006T152157Z
LAST-MODIFIED:20251006T152157Z
UID:4217-1765809900-1765811700@poplar-cit.co.uk
SUMMARY:Y4 carols around the tree
DESCRIPTION:
URL:https://poplar-cit.co.uk/event/y4-carols-around-the-tree/
END:VEVENT
BEGIN:VEVENT
DTSTART;TZID=Europe/London:20251216T090000
DTEND;TZID=Europe/London:20251216T093000
DTSTAMP:20260422T230135
CREATED:20251006T152233Z
LAST-MODIFIED:20251006T152233Z
UID:4219-1765875600-1765877400@poplar-cit.co.uk
SUMMARY:Y5 carols around the tree
DESCRIPTION:
URL:https://poplar-cit.co.uk/event/y5-carols-around-the-tree/
END:VEVENT
BEGIN:VEVENT
DTSTART;TZID=Europe/London:20251217T090000
DTEND;TZID=Europe/London:20251217T093000
DTSTAMP:20260422T230135
CREATED:20251006T152257Z
LAST-MODIFIED:20251006T152257Z
UID:4221-1765962000-1765963800@poplar-cit.co.uk
SUMMARY:Y1 carols around the tree
DESCRIPTION:
URL:https://poplar-cit.co.uk/event/y1-carols-around-the-tree/
END:VEVENT
BEGIN:VEVENT
DTSTART;TZID=Europe/London:20251217T140000
DTEND;TZID=Europe/London:20251217T150000
DTSTAMP:20260422T230135
CREATED:20251006T152318Z
LAST-MODIFIED:20251006T152318Z
UID:4223-1765980000-1765983600@poplar-cit.co.uk
SUMMARY:Caring Christmas
DESCRIPTION:
URL:https://poplar-cit.co.uk/event/caring-christmas/
END:VEVENT
BEGIN:VEVENT
DTSTART;TZID=Europe/London:20251218T090000
DTEND;TZID=Europe/London:20251218T093000
DTSTAMP:20260422T230135
CREATED:20251006T152404Z
LAST-MODIFIED:20251006T152404Z
UID:4225-1766048400-1766050200@poplar-cit.co.uk
SUMMARY:Y3 carols around the tree
DESCRIPTION:
URL:https://poplar-cit.co.uk/event/y3-carols-around-the-tree/
END:VEVENT
BEGIN:VEVENT
DTSTART;TZID=Europe/London:20251218T141500
DTEND;TZID=Europe/London:20251218T144500
DTSTAMP:20260422T230135
CREATED:20251006T152428Z
LAST-MODIFIED:20251127T121320Z
UID:4227-1766067300-1766069100@poplar-cit.co.uk
SUMMARY:Y6 carols around the tree
DESCRIPTION:
URL:https://poplar-cit.co.uk/event/y6-carols-around-the-tree/
END:VEVENT
BEGIN:VEVENT
DTSTART;TZID=Europe/London:20251218T151500
DTEND;TZID=Europe/London:20251218T160000
DTSTAMP:20260422T230135
CREATED:20251017T182948Z
LAST-MODIFIED:20251017T182948Z
UID:4266-1766070900-1766073600@poplar-cit.co.uk
SUMMARY:EYFS & Y1 FoP disco
DESCRIPTION:
URL:https://poplar-cit.co.uk/event/eyfs-y1-fop-disco/
END:VEVENT
BEGIN:VEVENT
DTSTART;TZID=Europe/London:20251218T161500
DTEND;TZID=Europe/London:20251218T170000
DTSTAMP:20260422T230135
CREATED:20251017T183121Z
LAST-MODIFIED:20251017T183121Z
UID:4271-1766074500-1766077200@poplar-cit.co.uk
SUMMARY:Y2\, Y3 & Y4 FoP disco
DESCRIPTION:
URL:https://poplar-cit.co.uk/event/y2-y3-y4-fop-disco-2/
END:VEVENT
BEGIN:VEVENT
DTSTART;TZID=Europe/London:20251218T171500
DTEND;TZID=Europe/London:20251218T180000
DTSTAMP:20260422T230135
CREATED:20251017T183016Z
LAST-MODIFIED:20251017T183045Z
UID:4268-1766078100-1766080800@poplar-cit.co.uk
SUMMARY:Y5 & Y6 FoP disco
DESCRIPTION:
URL:https://poplar-cit.co.uk/event/y2-y3-y4-fop-disco/
END:VEVENT
BEGIN:VEVENT
DTSTART;VALUE=DATE:20251219
DTEND;VALUE=DATE:20251220
DTSTAMP:20260422T230135
CREATED:20250907T173134Z
LAST-MODIFIED:20250907T173134Z
UID:3733-1766102400-1766188799@poplar-cit.co.uk
SUMMARY:Last day of term 2
DESCRIPTION:
URL:https://poplar-cit.co.uk/event/last-day-of-term-2/
END:VEVENT
BEGIN:VEVENT
DTSTART;TZID=Europe/London:20251219T090000
DTEND;TZID=Europe/London:20251219T093000
DTSTAMP:20260422T230135
CREATED:20251006T152448Z
LAST-MODIFIED:20251006T152448Z
UID:4229-1766134800-1766136600@poplar-cit.co.uk
SUMMARY:EYFS carols around the tree
DESCRIPTION:
URL:https://poplar-cit.co.uk/event/eyfs-carols-around-the-tree/
END:VEVENT
BEGIN:VEVENT
DTSTART;TZID=Europe/London:20251219T143000
DTEND;TZID=Europe/London:20251219T150000
DTSTAMP:20260422T230135
CREATED:20251006T152521Z
LAST-MODIFIED:20251006T152521Z
UID:4231-1766154600-1766156400@poplar-cit.co.uk
SUMMARY:Y2 carols around the tree
DESCRIPTION:
URL:https://poplar-cit.co.uk/event/y2-carols-around-the-tree/
END:VEVENT
BEGIN:VEVENT
DTSTART;VALUE=DATE:20260105
DTEND;VALUE=DATE:20260106
DTSTAMP:20260422T230135
CREATED:20250907T173954Z
LAST-MODIFIED:20250907T173954Z
UID:3758-1767571200-1767657599@poplar-cit.co.uk
SUMMARY:First day of term 3
DESCRIPTION:
URL:https://poplar-cit.co.uk/event/first-day-of-term-3/
END:VEVENT
BEGIN:VEVENT
DTSTART;TZID=Europe/London:20260106T140000
DTEND;TZID=Europe/London:20260106T150000
DTSTAMP:20260422T230135
CREATED:20250909T205851Z
LAST-MODIFIED:20250909T205851Z
UID:3801-1767708000-1767711600@poplar-cit.co.uk
SUMMARY:Open afternoon for September 2026 starters
DESCRIPTION:
URL:https://poplar-cit.co.uk/event/open-afternoon-for-september-2026-starters-3/
END:VEVENT
BEGIN:VEVENT
DTSTART;VALUE=DATE:20260113
DTEND;VALUE=DATE:20260114
DTSTAMP:20260422T230135
CREATED:20251215T130354Z
LAST-MODIFIED:20251215T130354Z
UID:4447-1768262400-1768348799@poplar-cit.co.uk
SUMMARY:MHST Worry Workshops for Y3 & Y4
DESCRIPTION:
URL:https://poplar-cit.co.uk/event/mhst-worry-workshops-for-y3-y4/
END:VEVENT
BEGIN:VEVENT
DTSTART;VALUE=DATE:20260115
DTEND;VALUE=DATE:20260116
DTSTAMP:20260422T230135
CREATED:20250909T205434Z
LAST-MODIFIED:20250909T205434Z
UID:3792-1768435200-1768521599@poplar-cit.co.uk
SUMMARY:Applications for EYFS 2026 closes today
DESCRIPTION:
URL:https://poplar-cit.co.uk/event/applications-for-eyfs-2026-closes-today/
END:VEVENT
BEGIN:VEVENT
DTSTART;VALUE=DATE:20260115
DTEND;VALUE=DATE:20260116
DTSTAMP:20260422T230135
CREATED:20251215T130430Z
LAST-MODIFIED:20251215T130430Z
UID:4449-1768435200-1768521599@poplar-cit.co.uk
SUMMARY:Panathlon event for some children
DESCRIPTION:
URL:https://poplar-cit.co.uk/event/panathlon-event-for-some-children/
END:VEVENT
BEGIN:VEVENT
DTSTART;VALUE=DATE:20260118
DTEND;VALUE=DATE:20260119
DTSTAMP:20260422T230135
CREATED:20251215T130451Z
LAST-MODIFIED:20251215T130451Z
UID:4451-1768694400-1768780799@poplar-cit.co.uk
SUMMARY:Winnie the Pooh Day
DESCRIPTION:
URL:https://poplar-cit.co.uk/event/winnie-the-pooh-day/
END:VEVENT
BEGIN:VEVENT
DTSTART;VALUE=DATE:20260118
DTEND;VALUE=DATE:20260119
DTSTAMP:20260422T230135
CREATED:20251215T130508Z
LAST-MODIFIED:20251215T130508Z
UID:4453-1768694400-1768780799@poplar-cit.co.uk
SUMMARY:World Religion Day
DESCRIPTION:
URL:https://poplar-cit.co.uk/event/world-religion-day/
END:VEVENT
BEGIN:VEVENT
DTSTART;VALUE=DATE:20260119
DTEND;VALUE=DATE:20260120
DTSTAMP:20260422T230135
CREATED:20251215T130537Z
LAST-MODIFIED:20251215T130537Z
UID:4455-1768780800-1768867199@poplar-cit.co.uk
SUMMARY:Martin Luther-King Day
DESCRIPTION:
URL:https://poplar-cit.co.uk/event/martin-luther-king-day/
END:VEVENT
BEGIN:VEVENT
DTSTART;VALUE=DATE:20260120
DTEND;VALUE=DATE:20260121
DTSTAMP:20260422T230135
CREATED:20251215T130604Z
LAST-MODIFIED:20251215T130604Z
UID:4457-1768867200-1768953599@poplar-cit.co.uk
SUMMARY:International Day of Acceptance
DESCRIPTION:
URL:https://poplar-cit.co.uk/event/international-day-of-acceptance/
END:VEVENT
BEGIN:VEVENT
DTSTART;VALUE=DATE:20260120
DTEND;VALUE=DATE:20260122
DTSTAMP:20260422T230135
CREATED:20251017T183237Z
LAST-MODIFIED:20251017T183237Z
UID:4277-1768867200-1769039999@poplar-cit.co.uk
SUMMARY:Recycle workshops
DESCRIPTION:
URL:https://poplar-cit.co.uk/event/recycle-workshops/
END:VEVENT
BEGIN:VEVENT
DTSTART;TZID=Europe/London:20260121T131500
DTEND;TZID=Europe/London:20260121T141500
DTSTAMP:20260422T230135
CREATED:20251215T130658Z
LAST-MODIFIED:20251215T130658Z
UID:4459-1769001300-1769004900@poplar-cit.co.uk
SUMMARY:MHST Worry workshop for Y1
DESCRIPTION:
URL:https://poplar-cit.co.uk/event/mhst-worry-workshop-for-y1/
END:VEVENT
BEGIN:VEVENT
DTSTART;VALUE=DATE:20260122
DTEND;VALUE=DATE:20260123
DTSTAMP:20260422T230135
CREATED:20251215T130726Z
LAST-MODIFIED:20251215T130726Z
UID:4461-1769040000-1769126399@poplar-cit.co.uk
SUMMARY:Y5 visit to Magna Science Center
DESCRIPTION:
URL:https://poplar-cit.co.uk/event/y5-visit-to-magna-science-center/
END:VEVENT
END:VCALENDAR