BEGIN:VCALENDAR
VERSION:2.0
PRODID:-//Poplar Farm School - ECPv6.15.20//NONSGML v1.0//EN
CALSCALE:GREGORIAN
METHOD:PUBLISH
X-WR-CALNAME:Poplar Farm School
X-ORIGINAL-URL:https://poplar-cit.co.uk
X-WR-CALDESC:Events for Poplar Farm School
REFRESH-INTERVAL;VALUE=DURATION:PT1H
X-Robots-Tag:noindex
X-PUBLISHED-TTL:PT1H
BEGIN:VTIMEZONE
TZID:Europe/London
BEGIN:DAYLIGHT
TZOFFSETFROM:+0000
TZOFFSETTO:+0100
TZNAME:BST
DTSTART:20250330T010000
END:DAYLIGHT
BEGIN:STANDARD
TZOFFSETFROM:+0100
TZOFFSETTO:+0000
TZNAME:GMT
DTSTART:20251026T010000
END:STANDARD
BEGIN:DAYLIGHT
TZOFFSETFROM:+0000
TZOFFSETTO:+0100
TZNAME:BST
DTSTART:20260329T010000
END:DAYLIGHT
BEGIN:STANDARD
TZOFFSETFROM:+0100
TZOFFSETTO:+0000
TZNAME:GMT
DTSTART:20261025T010000
END:STANDARD
BEGIN:DAYLIGHT
TZOFFSETFROM:+0000
TZOFFSETTO:+0100
TZNAME:BST
DTSTART:20270328T010000
END:DAYLIGHT
BEGIN:STANDARD
TZOFFSETFROM:+0100
TZOFFSETTO:+0000
TZNAME:GMT
DTSTART:20271031T010000
END:STANDARD
END:VTIMEZONE
BEGIN:VEVENT
DTSTART;TZID=Europe/London:20260319T130000
DTEND;TZID=Europe/London:20260319T153000
DTSTAMP:20260422T230652
CREATED:20260209T100434Z
LAST-MODIFIED:20260209T100434Z
UID:4740-1773925200-1773934200@poplar-cit.co.uk
SUMMARY:Y5/6 Bee netball tournament
DESCRIPTION:
URL:https://poplar-cit.co.uk/event/y5-6-bee-netball-tournament/
END:VEVENT
BEGIN:VEVENT
DTSTART;TZID=Europe/London:20260318T153000
DTEND;TZID=Europe/London:20260318T180000
DTSTAMP:20260422T230652
CREATED:20260209T100255Z
LAST-MODIFIED:20260209T100255Z
UID:4734-1773847800-1773856800@poplar-cit.co.uk
SUMMARY:Parents' evening (with Usborne Book Fair)
DESCRIPTION:
URL:https://poplar-cit.co.uk/event/parents-evening-with-usborne-book-fair-2/
END:VEVENT
BEGIN:VEVENT
DTSTART;TZID=Europe/London:20260318T093000
DTEND;TZID=Europe/London:20260318T120000
DTSTAMP:20260422T230652
CREATED:20260209T100358Z
LAST-MODIFIED:20260209T100358Z
UID:4738-1773826200-1773835200@poplar-cit.co.uk
SUMMARY:Y4 cinema trip
DESCRIPTION:
URL:https://poplar-cit.co.uk/event/y4-cinema-trip/
END:VEVENT
BEGIN:VEVENT
DTSTART;VALUE=DATE:20260318
DTEND;VALUE=DATE:20260319
DTSTAMP:20260422T230652
CREATED:20260209T100328Z
LAST-MODIFIED:20260209T100328Z
UID:4736-1773792000-1773878399@poplar-cit.co.uk
SUMMARY:Global Recycling Day
DESCRIPTION:
URL:https://poplar-cit.co.uk/event/global-recycling-day/
END:VEVENT
BEGIN:VEVENT
DTSTART;TZID=Europe/London:20260317T170000
DTEND;TZID=Europe/London:20260317T193000
DTSTAMP:20260422T230652
CREATED:20260209T100235Z
LAST-MODIFIED:20260209T100235Z
UID:4732-1773766800-1773775800@poplar-cit.co.uk
SUMMARY:Parents' evening (with Usborne Book Fair)
DESCRIPTION:
URL:https://poplar-cit.co.uk/event/parents-evening-with-usborne-book-fair/
END:VEVENT
BEGIN:VEVENT
DTSTART;VALUE=DATE:20260317
DTEND;VALUE=DATE:20260318
DTSTAMP:20260422T230652
CREATED:20260301T093854Z
LAST-MODIFIED:20260301T093854Z
UID:4815-1773705600-1773791999@poplar-cit.co.uk
SUMMARY:FoP Bag2School collection date
DESCRIPTION:
URL:https://poplar-cit.co.uk/event/fop-bag2school-collection-date-2/
END:VEVENT
BEGIN:VEVENT
DTSTART;VALUE=DATE:20260317
DTEND;VALUE=DATE:20260318
DTSTAMP:20260422T230652
CREATED:20260209T100142Z
LAST-MODIFIED:20260209T100142Z
UID:4730-1773705600-1773791999@poplar-cit.co.uk
SUMMARY:St.Patrick's Day
DESCRIPTION:
URL:https://poplar-cit.co.uk/event/st-patricks-day/
END:VEVENT
BEGIN:VEVENT
DTSTART;VALUE=DATE:20260316
DTEND;VALUE=DATE:20260317
DTSTAMP:20260422T230652
CREATED:20260209T100125Z
LAST-MODIFIED:20260209T100125Z
UID:4728-1773619200-1773705599@poplar-cit.co.uk
SUMMARY:Young Carers Action Day
DESCRIPTION:
URL:https://poplar-cit.co.uk/event/young-carers-action-day/
END:VEVENT
BEGIN:VEVENT
DTSTART;VALUE=DATE:20260316
DTEND;VALUE=DATE:20260317
DTSTAMP:20260422T230652
CREATED:20260209T100102Z
LAST-MODIFIED:20260209T100102Z
UID:4726-1773619200-1773705599@poplar-cit.co.uk
SUMMARY:Disabled Access Day
DESCRIPTION:
URL:https://poplar-cit.co.uk/event/disabled-access-day/
END:VEVENT
BEGIN:VEVENT
DTSTART;VALUE=DATE:20260315
DTEND;VALUE=DATE:20260316
DTSTAMP:20260422T230652
CREATED:20260209T100012Z
LAST-MODIFIED:20260209T100012Z
UID:4724-1773532800-1773619199@poplar-cit.co.uk
SUMMARY:Mothering Sunday
DESCRIPTION:
URL:https://poplar-cit.co.uk/event/mothering-sunday/
END:VEVENT
BEGIN:VEVENT
DTSTART;VALUE=DATE:20260313
DTEND;VALUE=DATE:20260314
DTSTAMP:20260422T230652
CREATED:20260209T095955Z
LAST-MODIFIED:20260209T095955Z
UID:4722-1773360000-1773446399@poplar-cit.co.uk
SUMMARY:International School Meals Day
DESCRIPTION:
URL:https://poplar-cit.co.uk/event/international-school-meals-day/
END:VEVENT
BEGIN:VEVENT
DTSTART;VALUE=DATE:20260311
DTEND;VALUE=DATE:20260312
DTSTAMP:20260422T230652
CREATED:20260209T095934Z
LAST-MODIFIED:20260209T095934Z
UID:4720-1773187200-1773273599@poplar-cit.co.uk
SUMMARY:Lithuania\, Restoration of Independence Day
DESCRIPTION:
URL:https://poplar-cit.co.uk/event/lithuania-restoration-of-independence-day/
END:VEVENT
BEGIN:VEVENT
DTSTART;TZID=Europe/London:20260309T090000
DTEND;TZID=Europe/London:20260309T103000
DTSTAMP:20260422T230652
CREATED:20260209T095846Z
LAST-MODIFIED:20260209T095855Z
UID:4718-1773046800-1773052200@poplar-cit.co.uk
SUMMARY:MHST parent drop-in sessions
DESCRIPTION:
URL:https://poplar-cit.co.uk/event/mhst-parent-drop-in-sessions/
END:VEVENT
BEGIN:VEVENT
DTSTART;VALUE=DATE:20260309
DTEND;VALUE=DATE:20260314
DTSTAMP:20260422T230652
CREATED:20250921T125851Z
LAST-MODIFIED:20250921T125851Z
UID:3959-1773014400-1773446399@poplar-cit.co.uk
SUMMARY:British Science Week
DESCRIPTION:
URL:https://poplar-cit.co.uk/event/british-science-week/
END:VEVENT
BEGIN:VEVENT
DTSTART;VALUE=DATE:20260309
DTEND;VALUE=DATE:20260310
DTSTAMP:20260422T230652
CREATED:20260301T093805Z
LAST-MODIFIED:20260301T093805Z
UID:4813-1773014400-1773100799@poplar-cit.co.uk
SUMMARY:Last week of Spring term extra-curricular clubs
DESCRIPTION:
URL:https://poplar-cit.co.uk/event/last-week-of-spring-term-extra-curricular-clubs/
END:VEVENT
BEGIN:VEVENT
DTSTART;VALUE=DATE:20260308
DTEND;VALUE=DATE:20260309
DTSTAMP:20260422T230652
CREATED:20260209T095701Z
LAST-MODIFIED:20260209T095701Z
UID:4716-1772928000-1773014399@poplar-cit.co.uk
SUMMARY:International Women's Day
DESCRIPTION:
URL:https://poplar-cit.co.uk/event/international-womens-day/
END:VEVENT
BEGIN:VEVENT
DTSTART;VALUE=DATE:20260308
DTEND;VALUE=DATE:20260309
DTSTAMP:20260422T230652
CREATED:20250922T150221Z
LAST-MODIFIED:20250922T150221Z
UID:3961-1772928000-1773014399@poplar-cit.co.uk
SUMMARY:Grantham Schools Gymnastics Tournament
DESCRIPTION:
URL:https://poplar-cit.co.uk/event/grantham-schools-gymnastics-tournament/
END:VEVENT
BEGIN:VEVENT
DTSTART;TZID=Europe/London:20260306T130000
DTEND;TZID=Europe/London:20260306T160000
DTSTAMP:20260422T230652
CREATED:20260209T095632Z
LAST-MODIFIED:20260209T095632Z
UID:4714-1772802000-1772812800@poplar-cit.co.uk
SUMMARY:KS2 swimming gala
DESCRIPTION:
URL:https://poplar-cit.co.uk/event/ks2-swimming-gala/
END:VEVENT
BEGIN:VEVENT
DTSTART;VALUE=DATE:20260305
DTEND;VALUE=DATE:20260306
DTSTAMP:20260422T230652
CREATED:20260209T095551Z
LAST-MODIFIED:20260209T095551Z
UID:4712-1772668800-1772755199@poplar-cit.co.uk
SUMMARY:World Book Day
DESCRIPTION:
URL:https://poplar-cit.co.uk/event/world-book-day/
END:VEVENT
BEGIN:VEVENT
DTSTART;VALUE=DATE:20260304
DTEND;VALUE=DATE:20260305
DTSTAMP:20260422T230652
CREATED:20260209T095533Z
LAST-MODIFIED:20260209T095533Z
UID:4710-1772582400-1772668799@poplar-cit.co.uk
SUMMARY:World Hearing Day
DESCRIPTION:
URL:https://poplar-cit.co.uk/event/world-hearing-day/
END:VEVENT
BEGIN:VEVENT
DTSTART;TZID=Europe/London:20260303T090000
DTEND;TZID=Europe/London:20260303T113000
DTSTAMP:20260422T230652
CREATED:20260209T095509Z
LAST-MODIFIED:20260209T095509Z
UID:4708-1772528400-1772537400@poplar-cit.co.uk
SUMMARY:Planetarium in school for Y1
DESCRIPTION:
URL:https://poplar-cit.co.uk/event/planetarium-in-school-for-y1/
END:VEVENT
BEGIN:VEVENT
DTSTART;VALUE=DATE:20260303
DTEND;VALUE=DATE:20260304
DTSTAMP:20260422T230652
CREATED:20260209T094438Z
LAST-MODIFIED:20260209T094438Z
UID:4706-1772496000-1772582399@poplar-cit.co.uk
SUMMARY:Bulgaria\, Liberation Day
DESCRIPTION:
URL:https://poplar-cit.co.uk/event/bulgaria-liberation-day/
END:VEVENT
BEGIN:VEVENT
DTSTART;VALUE=DATE:20260301
DTEND;VALUE=DATE:20260302
DTSTAMP:20260422T230652
CREATED:20260209T094413Z
LAST-MODIFIED:20260209T094413Z
UID:4704-1772323200-1772409599@poplar-cit.co.uk
SUMMARY:St.David's Day
DESCRIPTION:
URL:https://poplar-cit.co.uk/event/st-davids-day/
END:VEVENT
BEGIN:VEVENT
DTSTART;TZID=Europe/London:20260227T090000
DTEND;TZID=Europe/London:20260227T100000
DTSTAMP:20260422T230652
CREATED:20260209T094348Z
LAST-MODIFIED:20260209T094348Z
UID:4702-1772182800-1772186400@poplar-cit.co.uk
SUMMARY:SEND coffee morning
DESCRIPTION:
URL:https://poplar-cit.co.uk/event/send-coffee-morning-3/
END:VEVENT
BEGIN:VEVENT
DTSTART;TZID=Europe/London:20260225T123000
DTEND;TZID=Europe/London:20260225T153000
DTSTAMP:20260422T230652
CREATED:20260209T094319Z
LAST-MODIFIED:20260209T094319Z
UID:4700-1772022600-1772033400@poplar-cit.co.uk
SUMMARY:Y5 to KSHS to watch a performance
DESCRIPTION:
URL:https://poplar-cit.co.uk/event/y5-to-kshs-to-watch-a-performance/
END:VEVENT
BEGIN:VEVENT
DTSTART;TZID=Europe/London:20260225T100000
DTEND;TZID=Europe/London:20260225T113000
DTSTAMP:20260422T230652
CREATED:20260209T094207Z
LAST-MODIFIED:20260209T094207Z
UID:4696-1772013600-1772019000@poplar-cit.co.uk
SUMMARY:Well-Being Ambassadors to visit Newton House
DESCRIPTION:
URL:https://poplar-cit.co.uk/event/well-being-ambassadors-to-visit-newton-house-3/
END:VEVENT
BEGIN:VEVENT
DTSTART;VALUE=DATE:20260224
DTEND;VALUE=DATE:20260225
DTSTAMP:20260422T230652
CREATED:20260209T094012Z
LAST-MODIFIED:20260209T094012Z
UID:4694-1771891200-1771977599@poplar-cit.co.uk
SUMMARY:Emotional Health Day
DESCRIPTION:
URL:https://poplar-cit.co.uk/event/emotional-health-day/
END:VEVENT
BEGIN:VEVENT
DTSTART;VALUE=DATE:20260223
DTEND;VALUE=DATE:20260224
DTSTAMP:20260422T230652
CREATED:20250907T173859Z
LAST-MODIFIED:20250907T173859Z
UID:3756-1771804800-1771891199@poplar-cit.co.uk
SUMMARY:First day of term 4
DESCRIPTION:
URL:https://poplar-cit.co.uk/event/first-day-of-term-4/
END:VEVENT
BEGIN:VEVENT
DTSTART;VALUE=DATE:20260213
DTEND;VALUE=DATE:20260214
DTSTAMP:20260422T230652
CREATED:20250907T173208Z
LAST-MODIFIED:20250907T173208Z
UID:3735-1770940800-1771027199@poplar-cit.co.uk
SUMMARY:Last day of term 3
DESCRIPTION:
URL:https://poplar-cit.co.uk/event/last-day-of-term-3/
END:VEVENT
BEGIN:VEVENT
DTSTART;TZID=Europe/London:20260212T143000
DTEND;TZID=Europe/London:20260212T150000
DTSTAMP:20260422T230652
CREATED:20260108T153038Z
LAST-MODIFIED:20260108T153038Z
UID:4561-1770906600-1770908400@poplar-cit.co.uk
SUMMARY:Y1 shared learning event with parents
DESCRIPTION:
URL:https://poplar-cit.co.uk/event/y1-shared-learning-event-with-parents-2/
END:VEVENT
END:VCALENDAR