BEGIN:VCALENDAR
VERSION:2.0
PRODID:-//Poplar Farm School - ECPv6.15.20//NONSGML v1.0//EN
CALSCALE:GREGORIAN
METHOD:PUBLISH
X-ORIGINAL-URL:https://poplar-cit.co.uk
X-WR-CALDESC:Events for Poplar Farm School
REFRESH-INTERVAL;VALUE=DURATION:PT1H
X-Robots-Tag:noindex
X-PUBLISHED-TTL:PT1H
BEGIN:VTIMEZONE
TZID:Europe/London
BEGIN:DAYLIGHT
TZOFFSETFROM:+0000
TZOFFSETTO:+0100
TZNAME:BST
DTSTART:20250330T010000
END:DAYLIGHT
BEGIN:STANDARD
TZOFFSETFROM:+0100
TZOFFSETTO:+0000
TZNAME:GMT
DTSTART:20251026T010000
END:STANDARD
BEGIN:DAYLIGHT
TZOFFSETFROM:+0000
TZOFFSETTO:+0100
TZNAME:BST
DTSTART:20260329T010000
END:DAYLIGHT
BEGIN:STANDARD
TZOFFSETFROM:+0100
TZOFFSETTO:+0000
TZNAME:GMT
DTSTART:20261025T010000
END:STANDARD
BEGIN:DAYLIGHT
TZOFFSETFROM:+0000
TZOFFSETTO:+0100
TZNAME:BST
DTSTART:20270328T010000
END:DAYLIGHT
BEGIN:STANDARD
TZOFFSETFROM:+0100
TZOFFSETTO:+0000
TZNAME:GMT
DTSTART:20271031T010000
END:STANDARD
END:VTIMEZONE
BEGIN:VEVENT
DTSTART;TZID=Europe/London:20260330T093000
DTEND;TZID=Europe/London:20260330T103000
DTSTAMP:20260422T025520
CREATED:20260209T101150Z
LAST-MODIFIED:20260209T101150Z
UID:4758-1774863000-1774866600@poplar-cit.co.uk
SUMMARY:Rock Steady concert for Rock Steady club parents
DESCRIPTION:
URL:https://poplar-cit.co.uk/event/rock-steady-concert-for-rock-steady-club-parents/
END:VEVENT
BEGIN:VEVENT
DTSTART;VALUE=DATE:20260402
DTEND;VALUE=DATE:20260403
DTSTAMP:20260422T025520
CREATED:20250907T173241Z
LAST-MODIFIED:20250907T173241Z
UID:3737-1775088000-1775174399@poplar-cit.co.uk
SUMMARY:Last day of term 4
DESCRIPTION:
URL:https://poplar-cit.co.uk/event/last-day-of-term-4/
END:VEVENT
BEGIN:VEVENT
DTSTART;VALUE=DATE:20260402
DTEND;VALUE=DATE:20260403
DTSTAMP:20260422T025520
CREATED:20260322T122201Z
LAST-MODIFIED:20260322T122201Z
UID:4857-1775088000-1775174399@poplar-cit.co.uk
SUMMARY:World Autism Awareness Day
DESCRIPTION:
URL:https://poplar-cit.co.uk/event/world-autism-awareness-day-2/
END:VEVENT
BEGIN:VEVENT
DTSTART;VALUE=DATE:20260402
DTEND;VALUE=DATE:20260403
DTSTAMP:20260422T025520
CREATED:20260322T122225Z
LAST-MODIFIED:20260322T122225Z
UID:4859-1775088000-1775174399@poplar-cit.co.uk
SUMMARY:Y5/6 Tag-rugby event
DESCRIPTION:
URL:https://poplar-cit.co.uk/event/y5-6-tag-rugby-event-2/
END:VEVENT
BEGIN:VEVENT
DTSTART;VALUE=DATE:20260415
DTEND;VALUE=DATE:20260416
DTSTAMP:20260422T025520
CREATED:20260322T122535Z
LAST-MODIFIED:20260322T122535Z
UID:4861-1776211200-1776297599@poplar-cit.co.uk
SUMMARY:World Art Day
DESCRIPTION:
URL:https://poplar-cit.co.uk/event/world-art-day/
END:VEVENT
BEGIN:VEVENT
DTSTART;VALUE=DATE:20260416
DTEND;VALUE=DATE:20260417
DTSTAMP:20260422T025520
CREATED:20260322T122553Z
LAST-MODIFIED:20260322T122553Z
UID:4863-1776297600-1776383999@poplar-cit.co.uk
SUMMARY:September 2026 EYFS intake offer day
DESCRIPTION:
URL:https://poplar-cit.co.uk/event/september-2026-eyfs-intake-offer-day/
END:VEVENT
BEGIN:VEVENT
DTSTART;VALUE=DATE:20260420
DTEND;VALUE=DATE:20260421
DTSTAMP:20260422T025520
CREATED:20250907T173821Z
LAST-MODIFIED:20250907T173821Z
UID:3754-1776643200-1776729599@poplar-cit.co.uk
SUMMARY:First day of term 5
DESCRIPTION:
URL:https://poplar-cit.co.uk/event/first-day-of-term-5/
END:VEVENT
BEGIN:VEVENT
DTSTART;VALUE=DATE:20260422
DTEND;VALUE=DATE:20260423
DTSTAMP:20260422T025520
CREATED:20260327T093523Z
LAST-MODIFIED:20260417T081019Z
UID:4904-1776816000-1776902399@poplar-cit.co.uk
SUMMARY:International Earth Day
DESCRIPTION:
URL:https://poplar-cit.co.uk/event/international-mother-earth-day/
END:VEVENT
BEGIN:VEVENT
DTSTART;TZID=Europe/London:20260422T173000
DTEND;TZID=Europe/London:20260422T180000
DTSTAMP:20260422T025520
CREATED:20260327T093617Z
LAST-MODIFIED:20260327T093617Z
UID:4906-1776879000-1776880800@poplar-cit.co.uk
SUMMARY:Ravenstor meeting for Y4 parents
DESCRIPTION:
URL:https://poplar-cit.co.uk/event/ravenstor-meeting-for-y4-parents/
END:VEVENT
BEGIN:VEVENT
DTSTART;TZID=Europe/London:20260422T200000
DTEND;TZID=Europe/London:20260422T200000
DTSTAMP:20260422T025520
CREATED:20260322T122647Z
LAST-MODIFIED:20260322T122647Z
UID:4865-1776888000-1776888000@poplar-cit.co.uk
SUMMARY:PGT entry forms close
DESCRIPTION:
URL:https://poplar-cit.co.uk/event/pgt-entry-forms-close/
END:VEVENT
BEGIN:VEVENT
DTSTART;VALUE=DATE:20260423
DTEND;VALUE=DATE:20260424
DTSTAMP:20260422T025520
CREATED:20260209T101540Z
LAST-MODIFIED:20260209T101540Z
UID:4764-1776902400-1776988799@poplar-cit.co.uk
SUMMARY:St.George's Day
DESCRIPTION:
URL:https://poplar-cit.co.uk/event/st-georges-day/
END:VEVENT
BEGIN:VEVENT
DTSTART;TZID=Europe/London:20260424T090000
DTEND;TZID=Europe/London:20260424T120000
DTSTAMP:20260422T025520
CREATED:20260209T101618Z
LAST-MODIFIED:20260209T101618Z
UID:4766-1777021200-1777032000@poplar-cit.co.uk
SUMMARY:EYFS Dinosaur workshop
DESCRIPTION:
URL:https://poplar-cit.co.uk/event/eyfs-dinosaur-workshop/
END:VEVENT
BEGIN:VEVENT
DTSTART;VALUE=DATE:20260427
DTEND;VALUE=DATE:20260428
DTSTAMP:20260422T025520
CREATED:20260322T122733Z
LAST-MODIFIED:20260322T122733Z
UID:4867-1777248000-1777334399@poplar-cit.co.uk
SUMMARY:South Africa\, Freedom Day
DESCRIPTION:
URL:https://poplar-cit.co.uk/event/south-africa-freedom-day/
END:VEVENT
BEGIN:VEVENT
DTSTART;VALUE=DATE:20260429
DTEND;VALUE=DATE:20260430
DTSTAMP:20260422T025520
CREATED:20260322T122755Z
LAST-MODIFIED:20260322T122755Z
UID:4869-1777420800-1777507199@poplar-cit.co.uk
SUMMARY:International Dance Day
DESCRIPTION:
URL:https://poplar-cit.co.uk/event/international-dance-day/
END:VEVENT
BEGIN:VEVENT
DTSTART;VALUE=DATE:20260429
DTEND;VALUE=DATE:20260430
DTSTAMP:20260422T025520
CREATED:20260322T122817Z
LAST-MODIFIED:20260322T122817Z
UID:4871-1777420800-1777507199@poplar-cit.co.uk
SUMMARY:Well-Being Ambassadors to visit Newton House
DESCRIPTION:
URL:https://poplar-cit.co.uk/event/well-being-ambassadors-to-visit-newton-house-5/
END:VEVENT
BEGIN:VEVENT
DTSTART;TZID=Europe/London:20260430T103000
DTEND;TZID=Europe/London:20260430T113000
DTSTAMP:20260422T025520
CREATED:20260327T093804Z
LAST-MODIFIED:20260327T093804Z
UID:4908-1777545000-1777548600@poplar-cit.co.uk
SUMMARY:Staff from Walton secondary visiting some Y6 children
DESCRIPTION:
URL:https://poplar-cit.co.uk/event/staff-from-walton-secondary-visiting-some-y6-children/
END:VEVENT
BEGIN:VEVENT
DTSTART;TZID=Europe/London:20260430T153000
DTEND;TZID=Europe/London:20260430T173000
DTSTAMP:20260422T025520
CREATED:20260322T122845Z
LAST-MODIFIED:20260322T122845Z
UID:4873-1777563000-1777570200@poplar-cit.co.uk
SUMMARY:KS2 Cross-Country event
DESCRIPTION:
URL:https://poplar-cit.co.uk/event/ks2-cross-country-event/
END:VEVENT
BEGIN:VEVENT
DTSTART;VALUE=DATE:20260501
DTEND;VALUE=DATE:20260502
DTSTAMP:20260422T025520
CREATED:20260327T093847Z
LAST-MODIFIED:20260327T093847Z
UID:4910-1777593600-1777679999@poplar-cit.co.uk
SUMMARY:Start of National Walking month
DESCRIPTION:
URL:https://poplar-cit.co.uk/event/start-of-national-walking-month/
END:VEVENT
BEGIN:VEVENT
DTSTART;VALUE=DATE:20260504
DTEND;VALUE=DATE:20260505
DTSTAMP:20260422T025520
CREATED:20260322T122924Z
LAST-MODIFIED:20260322T122924Z
UID:4875-1777852800-1777939199@poplar-cit.co.uk
SUMMARY:School closed for Early Bank Holiday Monday
DESCRIPTION:
URL:https://poplar-cit.co.uk/event/school-closed-for-early-bank-holiday-monday/
END:VEVENT
BEGIN:VEVENT
DTSTART;VALUE=DATE:20260505
DTEND;VALUE=DATE:20260506
DTSTAMP:20260422T025520
CREATED:20260327T094250Z
LAST-MODIFIED:20260327T094250Z
UID:4912-1777939200-1778025599@poplar-cit.co.uk
SUMMARY:World Asthma Day
DESCRIPTION:
URL:https://poplar-cit.co.uk/event/world-asthma-day/
END:VEVENT
BEGIN:VEVENT
DTSTART;VALUE=DATE:20260506
DTEND;VALUE=DATE:20260509
DTSTAMP:20260422T025520
CREATED:20260322T122956Z
LAST-MODIFIED:20260322T122956Z
UID:4877-1778025600-1778284799@poplar-cit.co.uk
SUMMARY:Y4 to Ravenstor for residential
DESCRIPTION:
URL:https://poplar-cit.co.uk/event/y4-to-ravenstor-for-residential/
END:VEVENT
BEGIN:VEVENT
DTSTART;TZID=Europe/London:20260508T130000
DTEND;TZID=Europe/London:20260508T150000
DTSTAMP:20260422T025520
CREATED:20260327T094415Z
LAST-MODIFIED:20260327T094415Z
UID:4914-1778245200-1778252400@poplar-cit.co.uk
SUMMARY:Y5 online safety workshops
DESCRIPTION:
URL:https://poplar-cit.co.uk/event/y5-online-safety-workshops/
END:VEVENT
BEGIN:VEVENT
DTSTART;VALUE=DATE:20260509
DTEND;VALUE=DATE:20260510
DTSTAMP:20260422T025520
CREATED:20260327T094505Z
LAST-MODIFIED:20260327T094505Z
UID:4916-1778284800-1778371199@poplar-cit.co.uk
SUMMARY:World Fairtrade Day
DESCRIPTION:
URL:https://poplar-cit.co.uk/event/world-fairtrade-day/
END:VEVENT
BEGIN:VEVENT
DTSTART;VALUE=DATE:20260510
DTEND;VALUE=DATE:20260511
DTSTAMP:20260422T025520
CREATED:20260327T094530Z
LAST-MODIFIED:20260327T094530Z
UID:4918-1778371200-1778457599@poplar-cit.co.uk
SUMMARY:National Fairtrade Day
DESCRIPTION:
URL:https://poplar-cit.co.uk/event/national-fairtrade-day/
END:VEVENT
BEGIN:VEVENT
DTSTART;VALUE=DATE:20260511
DTEND;VALUE=DATE:20260515
DTSTAMP:20260422T025520
CREATED:20260327T094603Z
LAST-MODIFIED:20260327T094603Z
UID:4920-1778457600-1778803199@poplar-cit.co.uk
SUMMARY:Y6 SATs Week
DESCRIPTION:
URL:https://poplar-cit.co.uk/event/y6-sats-week/
END:VEVENT
BEGIN:VEVENT
DTSTART;VALUE=DATE:20260512
DTEND;VALUE=DATE:20260513
DTSTAMP:20260422T025520
CREATED:20260327T094624Z
LAST-MODIFIED:20260327T094624Z
UID:4922-1778544000-1778630399@poplar-cit.co.uk
SUMMARY:National Limerick Day
DESCRIPTION:
URL:https://poplar-cit.co.uk/event/national-limerick-day/
END:VEVENT
BEGIN:VEVENT
DTSTART;TZID=Europe/London:20260513T180000
DTEND;TZID=Europe/London:20260513T190000
DTSTAMP:20260422T025520
CREATED:20260327T094714Z
LAST-MODIFIED:20260327T094714Z
UID:4924-1778695200-1778698800@poplar-cit.co.uk
SUMMARY:EYFS intake parent meeting
DESCRIPTION:
URL:https://poplar-cit.co.uk/event/eyfs-intake-parent-meeting/
END:VEVENT
BEGIN:VEVENT
DTSTART;VALUE=DATE:20260514
DTEND;VALUE=DATE:20260515
DTSTAMP:20260422T025520
CREATED:20260327T094742Z
LAST-MODIFIED:20260327T094757Z
UID:4926-1778716800-1778803199@poplar-cit.co.uk
SUMMARY:Y3/4 All Start cricket festival
DESCRIPTION:
URL:https://poplar-cit.co.uk/event/y3-4-all-starts-cricket-festival/
END:VEVENT
BEGIN:VEVENT
DTSTART;VALUE=DATE:20260515
DTEND;VALUE=DATE:20260516
DTSTAMP:20260422T025520
CREATED:20260327T094837Z
LAST-MODIFIED:20260327T094837Z
UID:4929-1778803200-1778889599@poplar-cit.co.uk
SUMMARY:International Day of Families
DESCRIPTION:
URL:https://poplar-cit.co.uk/event/international-day-of-families/
END:VEVENT
BEGIN:VEVENT
DTSTART;VALUE=DATE:20260520
DTEND;VALUE=DATE:20260521
DTSTAMP:20260422T025520
CREATED:20260327T094903Z
LAST-MODIFIED:20260327T094903Z
UID:4931-1779235200-1779321599@poplar-cit.co.uk
SUMMARY:No Pens Day
DESCRIPTION:
URL:https://poplar-cit.co.uk/event/no-pens-day/
END:VEVENT
END:VCALENDAR