BEGIN:VCALENDAR
VERSION:2.0
PRODID:-//Poplar Farm School - ECPv6.15.20//NONSGML v1.0//EN
CALSCALE:GREGORIAN
METHOD:PUBLISH
X-WR-CALNAME:Poplar Farm School
X-ORIGINAL-URL:https://poplar-cit.co.uk
X-WR-CALDESC:Events for Poplar Farm School
REFRESH-INTERVAL;VALUE=DURATION:PT1H
X-Robots-Tag:noindex
X-PUBLISHED-TTL:PT1H
BEGIN:VTIMEZONE
TZID:Europe/London
BEGIN:DAYLIGHT
TZOFFSETFROM:+0000
TZOFFSETTO:+0100
TZNAME:BST
DTSTART:20240331T010000
END:DAYLIGHT
BEGIN:STANDARD
TZOFFSETFROM:+0100
TZOFFSETTO:+0000
TZNAME:GMT
DTSTART:20241027T010000
END:STANDARD
BEGIN:DAYLIGHT
TZOFFSETFROM:+0000
TZOFFSETTO:+0100
TZNAME:BST
DTSTART:20250330T010000
END:DAYLIGHT
BEGIN:STANDARD
TZOFFSETFROM:+0100
TZOFFSETTO:+0000
TZNAME:GMT
DTSTART:20251026T010000
END:STANDARD
BEGIN:DAYLIGHT
TZOFFSETFROM:+0000
TZOFFSETTO:+0100
TZNAME:BST
DTSTART:20260329T010000
END:DAYLIGHT
BEGIN:STANDARD
TZOFFSETFROM:+0100
TZOFFSETTO:+0000
TZNAME:GMT
DTSTART:20261025T010000
END:STANDARD
END:VTIMEZONE
BEGIN:VEVENT
DTSTART;TZID=Europe/London:20251209T100000
DTEND;TZID=Europe/London:20251209T120000
DTSTAMP:20260422T230739
CREATED:20251006T151923Z
LAST-MODIFIED:20251204T114907Z
UID:4207-1765274400-1765281600@poplar-cit.co.uk
SUMMARY:Well-Being Ambassadors hosting a Christmas event for some Newton House residents
DESCRIPTION:
URL:https://poplar-cit.co.uk/event/well-being-ambassadors-hosting-a-christmas-event-for-some-newton-house-residents/
END:VEVENT
BEGIN:VEVENT
DTSTART;VALUE=DATE:20251208
DTEND;VALUE=DATE:20251213
DTSTAMP:20260422T230739
CREATED:20251006T151822Z
LAST-MODIFIED:20251006T151822Z
UID:4203-1765152000-1765583999@poplar-cit.co.uk
SUMMARY:Computer Science Education Week
DESCRIPTION:
URL:https://poplar-cit.co.uk/event/computer-science-education-week/
END:VEVENT
BEGIN:VEVENT
DTSTART;VALUE=DATE:20251206
DTEND;VALUE=DATE:20251207
DTSTAMP:20260422T230739
CREATED:20251006T151739Z
LAST-MODIFIED:20251006T151739Z
UID:4201-1764979200-1765065599@poplar-cit.co.uk
SUMMARY:Spain\, Constitution Day
DESCRIPTION:
URL:https://poplar-cit.co.uk/event/spain-constitution-day/
END:VEVENT
BEGIN:VEVENT
DTSTART;VALUE=DATE:20251205
DTEND;VALUE=DATE:20251206
DTSTAMP:20260422T230739
CREATED:20251006T151723Z
LAST-MODIFIED:20251006T151723Z
UID:4199-1764892800-1764979199@poplar-cit.co.uk
SUMMARY:World Soil Day
DESCRIPTION:
URL:https://poplar-cit.co.uk/event/world-soil-day/
END:VEVENT
BEGIN:VEVENT
DTSTART;VALUE=DATE:20251204
DTEND;VALUE=DATE:20251205
DTSTAMP:20260422T230739
CREATED:20251006T151707Z
LAST-MODIFIED:20251006T151707Z
UID:4197-1764806400-1764892799@poplar-cit.co.uk
SUMMARY:World Wildlife Conservation Day
DESCRIPTION:
URL:https://poplar-cit.co.uk/event/world-wildlife-conservation-day/
END:VEVENT
BEGIN:VEVENT
DTSTART;VALUE=DATE:20251203
DTEND;VALUE=DATE:20251204
DTSTAMP:20260422T230739
CREATED:20251006T151645Z
LAST-MODIFIED:20251006T151645Z
UID:4195-1764720000-1764806399@poplar-cit.co.uk
SUMMARY:International Day of Persons with Disabilities
DESCRIPTION:
URL:https://poplar-cit.co.uk/event/international-day-of-persons-with-disabilities/
END:VEVENT
BEGIN:VEVENT
DTSTART;VALUE=DATE:20251202
DTEND;VALUE=DATE:20251203
DTSTAMP:20260422T230739
CREATED:20251006T151620Z
LAST-MODIFIED:20251006T151620Z
UID:4193-1764633600-1764719999@poplar-cit.co.uk
SUMMARY:International Day for the Abolition of Slavery
DESCRIPTION:
URL:https://poplar-cit.co.uk/event/international-day-for-the-abolition-of-slavery/
END:VEVENT
BEGIN:VEVENT
DTSTART;VALUE=DATE:20251201
DTEND;VALUE=DATE:20251206
DTSTAMP:20260422T230739
CREATED:20251006T151513Z
LAST-MODIFIED:20251006T151513Z
UID:4187-1764547200-1764979199@poplar-cit.co.uk
SUMMARY:Homelessness Awareness Week
DESCRIPTION:
URL:https://poplar-cit.co.uk/event/homelessness-awareness-week/
END:VEVENT
BEGIN:VEVENT
DTSTART;VALUE=DATE:20251201
DTEND;VALUE=DATE:20251202
DTSTAMP:20260422T230739
CREATED:20251006T151556Z
LAST-MODIFIED:20251006T151556Z
UID:4191-1764547200-1764633599@poplar-cit.co.uk
SUMMARY:Romania\, Great Union Day
DESCRIPTION:
URL:https://poplar-cit.co.uk/event/romania-great-union-day/
END:VEVENT
BEGIN:VEVENT
DTSTART;VALUE=DATE:20251201
DTEND;VALUE=DATE:20251202
DTSTAMP:20260422T230739
CREATED:20251006T151536Z
LAST-MODIFIED:20251006T151536Z
UID:4189-1764547200-1764633599@poplar-cit.co.uk
SUMMARY:Bring a Bauble Day
DESCRIPTION:
URL:https://poplar-cit.co.uk/event/bring-a-bauble-day/
END:VEVENT
BEGIN:VEVENT
DTSTART;VALUE=DATE:20251130
DTEND;VALUE=DATE:20251201
DTSTAMP:20260422T230739
CREATED:20251006T151452Z
LAST-MODIFIED:20251006T151452Z
UID:4185-1764460800-1764547199@poplar-cit.co.uk
SUMMARY:St.Andrew's Day
DESCRIPTION:
URL:https://poplar-cit.co.uk/event/st-andrews-day/
END:VEVENT
BEGIN:VEVENT
DTSTART;VALUE=DATE:20251128
DTEND;VALUE=DATE:20251129
DTSTAMP:20260422T230739
CREATED:20251006T151435Z
LAST-MODIFIED:20251006T151435Z
UID:4183-1764288000-1764374399@poplar-cit.co.uk
SUMMARY:EYFS Christmas visit to Rand Farm Park
DESCRIPTION:
URL:https://poplar-cit.co.uk/event/eyfs-christmas-visit-to-rand-farm-park/
END:VEVENT
BEGIN:VEVENT
DTSTART;VALUE=DATE:20251127
DTEND;VALUE=DATE:20251128
DTSTAMP:20260422T230739
CREATED:20251006T151412Z
LAST-MODIFIED:20251006T151412Z
UID:4181-1764201600-1764287999@poplar-cit.co.uk
SUMMARY:Cheerleading event for some children
DESCRIPTION:
URL:https://poplar-cit.co.uk/event/cheerleading-event-for-some-children/
END:VEVENT
BEGIN:VEVENT
DTSTART;VALUE=DATE:20251127
DTEND;VALUE=DATE:20251128
DTSTAMP:20260422T230739
CREATED:20251006T151355Z
LAST-MODIFIED:20251006T151355Z
UID:4179-1764201600-1764287999@poplar-cit.co.uk
SUMMARY:Protecting our Planet Day
DESCRIPTION:
URL:https://poplar-cit.co.uk/event/protecting-our-planet-day/
END:VEVENT
BEGIN:VEVENT
DTSTART;TZID=Europe/London:20251126T153000
DTEND;TZID=Europe/London:20251126T180000
DTSTAMP:20260422T230739
CREATED:20251006T151046Z
LAST-MODIFIED:20251006T151046Z
UID:4173-1764171000-1764180000@poplar-cit.co.uk
SUMMARY:Parents' evening
DESCRIPTION:
URL:https://poplar-cit.co.uk/event/parents-evening-2/
END:VEVENT
BEGIN:VEVENT
DTSTART;TZID=Europe/London:20251126T100000
DTEND;TZID=Europe/London:20251126T120000
DTSTAMP:20260422T230739
CREATED:20251006T151203Z
LAST-MODIFIED:20251006T151333Z
UID:4177-1764151200-1764158400@poplar-cit.co.uk
SUMMARY:Well-Being Ambassadors to visit Newton House
DESCRIPTION:
URL:https://poplar-cit.co.uk/event/well-being-ambassadors-to-visit-newton-house/
END:VEVENT
BEGIN:VEVENT
DTSTART;VALUE=DATE:20251126
DTEND;VALUE=DATE:20251127
DTSTAMP:20260422T230739
CREATED:20251006T151121Z
LAST-MODIFIED:20251006T151121Z
UID:4175-1764115200-1764201599@poplar-cit.co.uk
SUMMARY:National Cake Day
DESCRIPTION:
URL:https://poplar-cit.co.uk/event/national-cake-day/
END:VEVENT
BEGIN:VEVENT
DTSTART;TZID=Europe/London:20251125T170000
DTEND;TZID=Europe/London:20251125T193000
DTSTAMP:20260422T230739
CREATED:20251006T151016Z
LAST-MODIFIED:20251006T151016Z
UID:4171-1764090000-1764099000@poplar-cit.co.uk
SUMMARY:Parents' evening
DESCRIPTION:
URL:https://poplar-cit.co.uk/event/parents-evening/
END:VEVENT
BEGIN:VEVENT
DTSTART;TZID=Europe/London:20251124T090000
DTEND;TZID=Europe/London:20251124T103000
DTSTAMP:20260422T230739
CREATED:20251006T150804Z
LAST-MODIFIED:20251006T150804Z
UID:4167-1763974800-1763980200@poplar-cit.co.uk
SUMMARY:Mop-up flu vaccinations
DESCRIPTION:
URL:https://poplar-cit.co.uk/event/mop-up-flu-vaccinations/
END:VEVENT
BEGIN:VEVENT
DTSTART;VALUE=DATE:20251124
DTEND;VALUE=DATE:20251129
DTSTAMP:20260422T230739
CREATED:20251006T150737Z
LAST-MODIFIED:20251006T150737Z
UID:4165-1763942400-1764374399@poplar-cit.co.uk
SUMMARY:UK Parliament Week
DESCRIPTION:
URL:https://poplar-cit.co.uk/event/uk-parliament-week/
END:VEVENT
BEGIN:VEVENT
DTSTART;VALUE=DATE:20251121
DTEND;VALUE=DATE:20251122
DTSTAMP:20260422T230739
CREATED:20251006T150828Z
LAST-MODIFIED:20251019T125702Z
UID:4169-1763683200-1763769599@poplar-cit.co.uk
SUMMARY:Mrs Anderson's last day before starting maternity leave
DESCRIPTION:
URL:https://poplar-cit.co.uk/event/mrs-andersons-last-day-before-starting-maternity-leave/
END:VEVENT
BEGIN:VEVENT
DTSTART;VALUE=DATE:20251121
DTEND;VALUE=DATE:20251122
DTSTAMP:20260422T230739
CREATED:20251006T150701Z
LAST-MODIFIED:20251006T150701Z
UID:4163-1763683200-1763769599@poplar-cit.co.uk
SUMMARY:World Hello Day
DESCRIPTION:
URL:https://poplar-cit.co.uk/event/world-hello-day/
END:VEVENT
BEGIN:VEVENT
DTSTART;VALUE=DATE:20251120
DTEND;VALUE=DATE:20251121
DTSTAMP:20260422T230739
CREATED:20251006T150646Z
LAST-MODIFIED:20251006T150646Z
UID:4161-1763596800-1763683199@poplar-cit.co.uk
SUMMARY:World Children's Day
DESCRIPTION:
URL:https://poplar-cit.co.uk/event/world-childrens-day/
END:VEVENT
BEGIN:VEVENT
DTSTART;TZID=Europe/London:20251119T100000
DTEND;TZID=Europe/London:20251119T120000
DTSTAMP:20260422T230739
CREATED:20251006T150556Z
LAST-MODIFIED:20251006T150608Z
UID:4158-1763546400-1763553600@poplar-cit.co.uk
SUMMARY:Children on Councils to the cinema to watch 'The Garfield Movie'
DESCRIPTION:
URL:https://poplar-cit.co.uk/event/children-on-councils-to-the-cinema-to-watch-the-garfield-movie/
END:VEVENT
BEGIN:VEVENT
DTSTART;VALUE=DATE:20251118
DTEND;VALUE=DATE:20251119
DTSTAMP:20260422T230739
CREATED:20251006T150516Z
LAST-MODIFIED:20251006T150516Z
UID:4156-1763424000-1763510399@poplar-cit.co.uk
SUMMARY:Latvia\, Independence Day
DESCRIPTION:
URL:https://poplar-cit.co.uk/event/latvia-independence-day/
END:VEVENT
BEGIN:VEVENT
DTSTART;TZID=Europe/London:20251117T130000
DTEND;TZID=Europe/London:20251117T150000
DTSTAMP:20260422T230739
CREATED:20251114T115705Z
LAST-MODIFIED:20251114T115705Z
UID:4361-1763384400-1763391600@poplar-cit.co.uk
SUMMARY:Young Carers visit to Newton Bridge Academy
DESCRIPTION:
URL:https://poplar-cit.co.uk/event/young-carers-visit-to-newton-bridge-academy/
END:VEVENT
BEGIN:VEVENT
DTSTART;VALUE=DATE:20251117
DTEND;VALUE=DATE:20251122
DTSTAMP:20260422T230739
CREATED:20251006T150433Z
LAST-MODIFIED:20251006T150433Z
UID:4154-1763337600-1763769599@poplar-cit.co.uk
SUMMARY:Road Safety Week
DESCRIPTION:
URL:https://poplar-cit.co.uk/event/road-safety-week/
END:VEVENT
BEGIN:VEVENT
DTSTART;VALUE=DATE:20251117
DTEND;VALUE=DATE:20251118
DTSTAMP:20260422T230739
CREATED:20250909T205351Z
LAST-MODIFIED:20250909T205351Z
UID:3790-1763337600-1763423999@poplar-cit.co.uk
SUMMARY:Applications for EYFS 2026 opens today
DESCRIPTION:
URL:https://poplar-cit.co.uk/event/applications-for-eyfs-2026-opens-today/
END:VEVENT
BEGIN:VEVENT
DTSTART;VALUE=DATE:20251114
DTEND;VALUE=DATE:20251115
DTSTAMP:20260422T230739
CREATED:20250907T172606Z
LAST-MODIFIED:20250907T172606Z
UID:3723-1763078400-1763164799@poplar-cit.co.uk
SUMMARY:Children In Need
DESCRIPTION:
URL:https://poplar-cit.co.uk/event/children-in-need/
END:VEVENT
BEGIN:VEVENT
DTSTART;VALUE=DATE:20251113
DTEND;VALUE=DATE:20251114
DTSTAMP:20260422T230739
CREATED:20251006T150358Z
LAST-MODIFIED:20251006T150358Z
UID:4152-1762992000-1763078399@poplar-cit.co.uk
SUMMARY:World Kindness Day
DESCRIPTION:
URL:https://poplar-cit.co.uk/event/world-kindness-day/
END:VEVENT
END:VCALENDAR