BEGIN:VCALENDAR
VERSION:2.0
PRODID:-//Poplar Farm School - ECPv6.15.20//NONSGML v1.0//EN
CALSCALE:GREGORIAN
METHOD:PUBLISH
X-ORIGINAL-URL:https://poplar-cit.co.uk
X-WR-CALDESC:Events for Poplar Farm School
REFRESH-INTERVAL;VALUE=DURATION:PT1H
X-Robots-Tag:noindex
X-PUBLISHED-TTL:PT1H
BEGIN:VTIMEZONE
TZID:Europe/London
BEGIN:DAYLIGHT
TZOFFSETFROM:+0000
TZOFFSETTO:+0100
TZNAME:BST
DTSTART:20250330T010000
END:DAYLIGHT
BEGIN:STANDARD
TZOFFSETFROM:+0100
TZOFFSETTO:+0000
TZNAME:GMT
DTSTART:20251026T010000
END:STANDARD
BEGIN:DAYLIGHT
TZOFFSETFROM:+0000
TZOFFSETTO:+0100
TZNAME:BST
DTSTART:20260329T010000
END:DAYLIGHT
BEGIN:STANDARD
TZOFFSETFROM:+0100
TZOFFSETTO:+0000
TZNAME:GMT
DTSTART:20261025T010000
END:STANDARD
BEGIN:DAYLIGHT
TZOFFSETFROM:+0000
TZOFFSETTO:+0100
TZNAME:BST
DTSTART:20270328T010000
END:DAYLIGHT
BEGIN:STANDARD
TZOFFSETFROM:+0100
TZOFFSETTO:+0000
TZNAME:GMT
DTSTART:20271031T010000
END:STANDARD
END:VTIMEZONE
BEGIN:VEVENT
DTSTART;TZID=Europe/London:20260430T103000
DTEND;TZID=Europe/London:20260430T113000
DTSTAMP:20260425T114526
CREATED:20260327T093804Z
LAST-MODIFIED:20260327T093804Z
UID:4908-1777545000-1777548600@poplar-cit.co.uk
SUMMARY:Staff from Walton secondary visiting some Y6 children
DESCRIPTION:
URL:https://poplar-cit.co.uk/event/staff-from-walton-secondary-visiting-some-y6-children/
END:VEVENT
BEGIN:VEVENT
DTSTART;TZID=Europe/London:20260430T153000
DTEND;TZID=Europe/London:20260430T173000
DTSTAMP:20260425T114526
CREATED:20260322T122845Z
LAST-MODIFIED:20260322T122845Z
UID:4873-1777563000-1777570200@poplar-cit.co.uk
SUMMARY:KS2 Cross-Country event
DESCRIPTION:
URL:https://poplar-cit.co.uk/event/ks2-cross-country-event/
END:VEVENT
END:VCALENDAR