BEGIN:VCALENDAR
VERSION:2.0
PRODID:-//Poplar Farm School - ECPv6.15.20//NONSGML v1.0//EN
CALSCALE:GREGORIAN
METHOD:PUBLISH
X-ORIGINAL-URL:https://poplar-cit.co.uk
X-WR-CALDESC:Events for Poplar Farm School
REFRESH-INTERVAL;VALUE=DURATION:PT1H
X-Robots-Tag:noindex
X-PUBLISHED-TTL:PT1H
BEGIN:VTIMEZONE
TZID:Europe/London
BEGIN:DAYLIGHT
TZOFFSETFROM:+0000
TZOFFSETTO:+0100
TZNAME:BST
DTSTART:20250330T010000
END:DAYLIGHT
BEGIN:STANDARD
TZOFFSETFROM:+0100
TZOFFSETTO:+0000
TZNAME:GMT
DTSTART:20251026T010000
END:STANDARD
BEGIN:DAYLIGHT
TZOFFSETFROM:+0000
TZOFFSETTO:+0100
TZNAME:BST
DTSTART:20260329T010000
END:DAYLIGHT
BEGIN:STANDARD
TZOFFSETFROM:+0100
TZOFFSETTO:+0000
TZNAME:GMT
DTSTART:20261025T010000
END:STANDARD
BEGIN:DAYLIGHT
TZOFFSETFROM:+0000
TZOFFSETTO:+0100
TZNAME:BST
DTSTART:20270328T010000
END:DAYLIGHT
BEGIN:STANDARD
TZOFFSETFROM:+0100
TZOFFSETTO:+0000
TZNAME:GMT
DTSTART:20271031T010000
END:STANDARD
END:VTIMEZONE
BEGIN:VEVENT
DTSTART;VALUE=DATE:20260303
DTEND;VALUE=DATE:20260304
DTSTAMP:20260421T221625
CREATED:20260209T094438Z
LAST-MODIFIED:20260209T094438Z
UID:4706-1772496000-1772582399@poplar-cit.co.uk
SUMMARY:Bulgaria\, Liberation Day
DESCRIPTION:
URL:https://poplar-cit.co.uk/event/bulgaria-liberation-day/
END:VEVENT
BEGIN:VEVENT
DTSTART;TZID=Europe/London:20260303T090000
DTEND;TZID=Europe/London:20260303T113000
DTSTAMP:20260421T221625
CREATED:20260209T095509Z
LAST-MODIFIED:20260209T095509Z
UID:4708-1772528400-1772537400@poplar-cit.co.uk
SUMMARY:Planetarium in school for Y1
DESCRIPTION:
URL:https://poplar-cit.co.uk/event/planetarium-in-school-for-y1/
END:VEVENT
END:VCALENDAR