BEGIN:VCALENDAR
VERSION:2.0
PRODID:-//Poplar Farm School - ECPv6.15.20//NONSGML v1.0//EN
CALSCALE:GREGORIAN
METHOD:PUBLISH
X-ORIGINAL-URL:https://poplar-cit.co.uk
X-WR-CALDESC:Events for Poplar Farm School
REFRESH-INTERVAL;VALUE=DURATION:PT1H
X-Robots-Tag:noindex
X-PUBLISHED-TTL:PT1H
BEGIN:VTIMEZONE
TZID:Europe/London
BEGIN:DAYLIGHT
TZOFFSETFROM:+0000
TZOFFSETTO:+0100
TZNAME:BST
DTSTART:20250330T010000
END:DAYLIGHT
BEGIN:STANDARD
TZOFFSETFROM:+0100
TZOFFSETTO:+0000
TZNAME:GMT
DTSTART:20251026T010000
END:STANDARD
BEGIN:DAYLIGHT
TZOFFSETFROM:+0000
TZOFFSETTO:+0100
TZNAME:BST
DTSTART:20260329T010000
END:DAYLIGHT
BEGIN:STANDARD
TZOFFSETFROM:+0100
TZOFFSETTO:+0000
TZNAME:GMT
DTSTART:20261025T010000
END:STANDARD
BEGIN:DAYLIGHT
TZOFFSETFROM:+0000
TZOFFSETTO:+0100
TZNAME:BST
DTSTART:20270328T010000
END:DAYLIGHT
BEGIN:STANDARD
TZOFFSETFROM:+0100
TZOFFSETTO:+0000
TZNAME:GMT
DTSTART:20271031T010000
END:STANDARD
END:VTIMEZONE
BEGIN:VEVENT
DTSTART;VALUE=DATE:20260126
DTEND;VALUE=DATE:20260214
DTSTAMP:20260422T024711
CREATED:20251215T130840Z
LAST-MODIFIED:20251215T130840Z
UID:4465-1769385600-1771027199@poplar-cit.co.uk
SUMMARY:Swimming pool on site for swimming lessons
DESCRIPTION:
URL:https://poplar-cit.co.uk/event/swimming-pool-on-site-for-swimming-lessons/
END:VEVENT
BEGIN:VEVENT
DTSTART;VALUE=DATE:20260209
DTEND;VALUE=DATE:20260214
DTSTAMP:20260422T024711
CREATED:20250907T172749Z
LAST-MODIFIED:20250907T172749Z
UID:3725-1770595200-1771027199@poplar-cit.co.uk
SUMMARY:Children’s Mental Health Week
DESCRIPTION:
URL:https://poplar-cit.co.uk/event/childrens-mental-health-week/
END:VEVENT
BEGIN:VEVENT
DTSTART;VALUE=DATE:20260210
DTEND;VALUE=DATE:20260211
DTSTAMP:20260422T024711
CREATED:20250921T125757Z
LAST-MODIFIED:20250921T125757Z
UID:3957-1770681600-1770767999@poplar-cit.co.uk
SUMMARY:Internet Safety Day
DESCRIPTION:
URL:https://poplar-cit.co.uk/event/internet-safety-day/
END:VEVENT
BEGIN:VEVENT
DTSTART;TZID=Europe/London:20260210T144500
DTEND;TZID=Europe/London:20260210T151500
DTSTAMP:20260422T024711
CREATED:20260108T153401Z
LAST-MODIFIED:20260108T153401Z
UID:4569-1770734700-1770736500@poplar-cit.co.uk
SUMMARY:Y6 shared learning event with parents
DESCRIPTION:
URL:https://poplar-cit.co.uk/event/y6-shared-learning-event-with-parents-2/
END:VEVENT
BEGIN:VEVENT
DTSTART;TZID=Europe/London:20260210T154500
DTEND;TZID=Europe/London:20260210T161500
DTSTAMP:20260422T024711
CREATED:20260120T152527Z
LAST-MODIFIED:20260120T152534Z
UID:4608-1770738300-1770740100@poplar-cit.co.uk
SUMMARY:Y5 11+ meeting for parents
DESCRIPTION:
URL:https://poplar-cit.co.uk/event/y5-11-meeting-for-parents/
END:VEVENT
END:VCALENDAR