BEGIN:VCALENDAR
VERSION:2.0
PRODID:-//Poplar Farm School - ECPv6.15.20//NONSGML v1.0//EN
CALSCALE:GREGORIAN
METHOD:PUBLISH
X-ORIGINAL-URL:https://poplar-cit.co.uk
X-WR-CALDESC:Events for Poplar Farm School
REFRESH-INTERVAL;VALUE=DURATION:PT1H
X-Robots-Tag:noindex
X-PUBLISHED-TTL:PT1H
BEGIN:VTIMEZONE
TZID:Europe/London
BEGIN:DAYLIGHT
TZOFFSETFROM:+0000
TZOFFSETTO:+0100
TZNAME:BST
DTSTART:20250330T010000
END:DAYLIGHT
BEGIN:STANDARD
TZOFFSETFROM:+0100
TZOFFSETTO:+0000
TZNAME:GMT
DTSTART:20251026T010000
END:STANDARD
BEGIN:DAYLIGHT
TZOFFSETFROM:+0000
TZOFFSETTO:+0100
TZNAME:BST
DTSTART:20260329T010000
END:DAYLIGHT
BEGIN:STANDARD
TZOFFSETFROM:+0100
TZOFFSETTO:+0000
TZNAME:GMT
DTSTART:20261025T010000
END:STANDARD
BEGIN:DAYLIGHT
TZOFFSETFROM:+0000
TZOFFSETTO:+0100
TZNAME:BST
DTSTART:20270328T010000
END:DAYLIGHT
BEGIN:STANDARD
TZOFFSETFROM:+0100
TZOFFSETTO:+0000
TZNAME:GMT
DTSTART:20271031T010000
END:STANDARD
END:VTIMEZONE
BEGIN:VEVENT
DTSTART;VALUE=DATE:20260126
DTEND;VALUE=DATE:20260214
DTSTAMP:20260421T231851
CREATED:20251215T130840Z
LAST-MODIFIED:20251215T130840Z
UID:4465-1769385600-1771027199@poplar-cit.co.uk
SUMMARY:Swimming pool on site for swimming lessons
DESCRIPTION:
URL:https://poplar-cit.co.uk/event/swimming-pool-on-site-for-swimming-lessons/
END:VEVENT
BEGIN:VEVENT
DTSTART;VALUE=DATE:20260202
DTEND;VALUE=DATE:20260207
DTSTAMP:20260421T231851
CREATED:20251215T131254Z
LAST-MODIFIED:20251215T131254Z
UID:4485-1769990400-1770422399@poplar-cit.co.uk
SUMMARY:National Storytelling Week
DESCRIPTION:
URL:https://poplar-cit.co.uk/event/national-storytelling-week/
END:VEVENT
BEGIN:VEVENT
DTSTART;VALUE=DATE:20260203
DTEND;VALUE=DATE:20260204
DTSTAMP:20260421T231851
CREATED:20251215T131341Z
LAST-MODIFIED:20251215T131341Z
UID:4489-1770076800-1770163199@poplar-cit.co.uk
SUMMARY:Y5/6 Indoor Athletic event for some children
DESCRIPTION:
URL:https://poplar-cit.co.uk/event/y5-6-indoor-athletic-event-for-some-children/
END:VEVENT
BEGIN:VEVENT
DTSTART;TZID=Europe/London:20260203T144500
DTEND;TZID=Europe/London:20260203T151500
DTSTAMP:20260421T231851
CREATED:20260108T153301Z
LAST-MODIFIED:20260108T153301Z
UID:4565-1770129900-1770131700@poplar-cit.co.uk
SUMMARY:Y4 shared learning event with parents
DESCRIPTION:
URL:https://poplar-cit.co.uk/event/y4-shared-learning-event-with-parents-2/
END:VEVENT
END:VCALENDAR