BEGIN:VCALENDAR
VERSION:2.0
PRODID:-//Poplar Farm School - ECPv6.15.20//NONSGML v1.0//EN
CALSCALE:GREGORIAN
METHOD:PUBLISH
X-WR-CALNAME:Poplar Farm School
X-ORIGINAL-URL:https://poplar-cit.co.uk
X-WR-CALDESC:Events for Poplar Farm School
REFRESH-INTERVAL;VALUE=DURATION:PT1H
X-Robots-Tag:noindex
X-PUBLISHED-TTL:PT1H
BEGIN:VTIMEZONE
TZID:Europe/London
BEGIN:DAYLIGHT
TZOFFSETFROM:+0000
TZOFFSETTO:+0100
TZNAME:BST
DTSTART:20250330T010000
END:DAYLIGHT
BEGIN:STANDARD
TZOFFSETFROM:+0100
TZOFFSETTO:+0000
TZNAME:GMT
DTSTART:20251026T010000
END:STANDARD
BEGIN:DAYLIGHT
TZOFFSETFROM:+0000
TZOFFSETTO:+0100
TZNAME:BST
DTSTART:20260329T010000
END:DAYLIGHT
BEGIN:STANDARD
TZOFFSETFROM:+0100
TZOFFSETTO:+0000
TZNAME:GMT
DTSTART:20261025T010000
END:STANDARD
BEGIN:DAYLIGHT
TZOFFSETFROM:+0000
TZOFFSETTO:+0100
TZNAME:BST
DTSTART:20270328T010000
END:DAYLIGHT
BEGIN:STANDARD
TZOFFSETFROM:+0100
TZOFFSETTO:+0000
TZNAME:GMT
DTSTART:20271031T010000
END:STANDARD
END:VTIMEZONE
BEGIN:VEVENT
DTSTART;VALUE=DATE:20260126
DTEND;VALUE=DATE:20260214
DTSTAMP:20260422T024607
CREATED:20251215T130840Z
LAST-MODIFIED:20251215T130840Z
UID:4465-1769385600-1771027199@poplar-cit.co.uk
SUMMARY:Swimming pool on site for swimming lessons
DESCRIPTION:
URL:https://poplar-cit.co.uk/event/swimming-pool-on-site-for-swimming-lessons/
END:VEVENT
BEGIN:VEVENT
DTSTART;VALUE=DATE:20260128
DTEND;VALUE=DATE:20260129
DTSTAMP:20260422T024607
CREATED:20251215T131109Z
LAST-MODIFIED:20251215T131109Z
UID:4477-1769558400-1769644799@poplar-cit.co.uk
SUMMARY:Lego Day
DESCRIPTION:
URL:https://poplar-cit.co.uk/event/lego-day/
END:VEVENT
BEGIN:VEVENT
DTSTART;VALUE=DATE:20260128
DTEND;VALUE=DATE:20260129
DTSTAMP:20260422T024607
CREATED:20251215T131448Z
LAST-MODIFIED:20260118T204622Z
UID:4491-1769558400-1769644799@poplar-cit.co.uk
SUMMARY:Miss Wilding's last day before starting maternity leave
DESCRIPTION:
URL:https://poplar-cit.co.uk/event/miss-wildings-last-day-before-starting-maternity-leave/
END:VEVENT
BEGIN:VEVENT
DTSTART;TZID=Europe/London:20260128T100000
DTEND;TZID=Europe/London:20260128T120000
DTSTAMP:20260422T024607
CREATED:20251215T131140Z
LAST-MODIFIED:20251215T131140Z
UID:4479-1769594400-1769601600@poplar-cit.co.uk
SUMMARY:Well-Being Ambassadors to visit Newton House
DESCRIPTION:
URL:https://poplar-cit.co.uk/event/well-being-ambassadors-to-visit-newton-house-2/
END:VEVENT
END:VCALENDAR