BEGIN:VCALENDAR
VERSION:2.0
PRODID:-//Poplar Farm School - ECPv6.15.20//NONSGML v1.0//EN
CALSCALE:GREGORIAN
METHOD:PUBLISH
X-WR-CALNAME:Poplar Farm School
X-ORIGINAL-URL:https://poplar-cit.co.uk
X-WR-CALDESC:Events for Poplar Farm School
REFRESH-INTERVAL;VALUE=DURATION:PT1H
X-Robots-Tag:noindex
X-PUBLISHED-TTL:PT1H
BEGIN:VTIMEZONE
TZID:Europe/London
BEGIN:DAYLIGHT
TZOFFSETFROM:+0000
TZOFFSETTO:+0100
TZNAME:BST
DTSTART:20240331T010000
END:DAYLIGHT
BEGIN:STANDARD
TZOFFSETFROM:+0100
TZOFFSETTO:+0000
TZNAME:GMT
DTSTART:20241027T010000
END:STANDARD
BEGIN:DAYLIGHT
TZOFFSETFROM:+0000
TZOFFSETTO:+0100
TZNAME:BST
DTSTART:20250330T010000
END:DAYLIGHT
BEGIN:STANDARD
TZOFFSETFROM:+0100
TZOFFSETTO:+0000
TZNAME:GMT
DTSTART:20251026T010000
END:STANDARD
BEGIN:DAYLIGHT
TZOFFSETFROM:+0000
TZOFFSETTO:+0100
TZNAME:BST
DTSTART:20260329T010000
END:DAYLIGHT
BEGIN:STANDARD
TZOFFSETFROM:+0100
TZOFFSETTO:+0000
TZNAME:GMT
DTSTART:20261025T010000
END:STANDARD
END:VTIMEZONE
BEGIN:VEVENT
DTSTART;VALUE=DATE:20251124
DTEND;VALUE=DATE:20251129
DTSTAMP:20260422T045632
CREATED:20251006T150737Z
LAST-MODIFIED:20251006T150737Z
UID:4165-1763942400-1764374399@poplar-cit.co.uk
SUMMARY:UK Parliament Week
DESCRIPTION:
URL:https://poplar-cit.co.uk/event/uk-parliament-week/
END:VEVENT
BEGIN:VEVENT
DTSTART;VALUE=DATE:20251126
DTEND;VALUE=DATE:20251127
DTSTAMP:20260422T045632
CREATED:20251006T151121Z
LAST-MODIFIED:20251006T151121Z
UID:4175-1764115200-1764201599@poplar-cit.co.uk
SUMMARY:National Cake Day
DESCRIPTION:
URL:https://poplar-cit.co.uk/event/national-cake-day/
END:VEVENT
BEGIN:VEVENT
DTSTART;TZID=Europe/London:20251126T100000
DTEND;TZID=Europe/London:20251126T120000
DTSTAMP:20260422T045632
CREATED:20251006T151203Z
LAST-MODIFIED:20251006T151333Z
UID:4177-1764151200-1764158400@poplar-cit.co.uk
SUMMARY:Well-Being Ambassadors to visit Newton House
DESCRIPTION:
URL:https://poplar-cit.co.uk/event/well-being-ambassadors-to-visit-newton-house/
END:VEVENT
BEGIN:VEVENT
DTSTART;TZID=Europe/London:20251126T153000
DTEND;TZID=Europe/London:20251126T180000
DTSTAMP:20260422T045632
CREATED:20251006T151046Z
LAST-MODIFIED:20251006T151046Z
UID:4173-1764171000-1764180000@poplar-cit.co.uk
SUMMARY:Parents' evening
DESCRIPTION:
URL:https://poplar-cit.co.uk/event/parents-evening-2/
END:VEVENT
END:VCALENDAR