BEGIN:VCALENDAR
VERSION:2.0
PRODID:-//Poplar Farm School - ECPv6.15.20//NONSGML v1.0//EN
CALSCALE:GREGORIAN
METHOD:PUBLISH
X-ORIGINAL-URL:https://poplar-cit.co.uk
X-WR-CALDESC:Events for Poplar Farm School
REFRESH-INTERVAL;VALUE=DURATION:PT1H
X-Robots-Tag:noindex
X-PUBLISHED-TTL:PT1H
BEGIN:VTIMEZONE
TZID:Europe/London
BEGIN:DAYLIGHT
TZOFFSETFROM:+0000
TZOFFSETTO:+0100
TZNAME:BST
DTSTART:20240331T010000
END:DAYLIGHT
BEGIN:STANDARD
TZOFFSETFROM:+0100
TZOFFSETTO:+0000
TZNAME:GMT
DTSTART:20241027T010000
END:STANDARD
BEGIN:DAYLIGHT
TZOFFSETFROM:+0000
TZOFFSETTO:+0100
TZNAME:BST
DTSTART:20250330T010000
END:DAYLIGHT
BEGIN:STANDARD
TZOFFSETFROM:+0100
TZOFFSETTO:+0000
TZNAME:GMT
DTSTART:20251026T010000
END:STANDARD
BEGIN:DAYLIGHT
TZOFFSETFROM:+0000
TZOFFSETTO:+0100
TZNAME:BST
DTSTART:20260329T010000
END:DAYLIGHT
BEGIN:STANDARD
TZOFFSETFROM:+0100
TZOFFSETTO:+0000
TZNAME:GMT
DTSTART:20261025T010000
END:STANDARD
END:VTIMEZONE
BEGIN:VEVENT
DTSTART;VALUE=DATE:20251110
DTEND;VALUE=DATE:20251115
DTSTAMP:20260422T060101
CREATED:20250907T172332Z
LAST-MODIFIED:20250907T172332Z
UID:3719-1762732800-1763164799@poplar-cit.co.uk
SUMMARY:Anti-bullying week
DESCRIPTION:
URL:https://poplar-cit.co.uk/event/anti-bullying-week/
END:VEVENT
BEGIN:VEVENT
DTSTART;VALUE=DATE:20251110
DTEND;VALUE=DATE:20251115
DTSTAMP:20260422T060101
CREATED:20251006T150133Z
LAST-MODIFIED:20251006T150133Z
UID:4142-1762732800-1763164799@poplar-cit.co.uk
SUMMARY:World Nursery Rhyme Week
DESCRIPTION:
URL:https://poplar-cit.co.uk/event/world-nursery-rhyme-week/
END:VEVENT
BEGIN:VEVENT
DTSTART;VALUE=DATE:20251111
DTEND;VALUE=DATE:20251112
DTSTAMP:20260422T060101
CREATED:20251006T150236Z
LAST-MODIFIED:20251006T150236Z
UID:4146-1762819200-1762905599@poplar-cit.co.uk
SUMMARY:Remembrance Day
DESCRIPTION:
URL:https://poplar-cit.co.uk/event/remembrance-day/
END:VEVENT
BEGIN:VEVENT
DTSTART;VALUE=DATE:20251111
DTEND;VALUE=DATE:20251112
DTSTAMP:20260422T060101
CREATED:20251006T150257Z
LAST-MODIFIED:20251006T150257Z
UID:4148-1762819200-1762905599@poplar-cit.co.uk
SUMMARY:Poland\, International Day
DESCRIPTION:
URL:https://poplar-cit.co.uk/event/poland-international-day/
END:VEVENT
END:VCALENDAR