BEGIN:VCALENDAR
VERSION:2.0
PRODID:-//Poplar Farm School - ECPv6.15.20//NONSGML v1.0//EN
CALSCALE:GREGORIAN
METHOD:PUBLISH
X-ORIGINAL-URL:https://poplar-cit.co.uk
X-WR-CALDESC:Events for Poplar Farm School
REFRESH-INTERVAL;VALUE=DURATION:PT1H
X-Robots-Tag:noindex
X-PUBLISHED-TTL:PT1H
BEGIN:VTIMEZONE
TZID:Europe/London
BEGIN:DAYLIGHT
TZOFFSETFROM:+0000
TZOFFSETTO:+0100
TZNAME:BST
DTSTART:20240331T010000
END:DAYLIGHT
BEGIN:STANDARD
TZOFFSETFROM:+0100
TZOFFSETTO:+0000
TZNAME:GMT
DTSTART:20241027T010000
END:STANDARD
BEGIN:DAYLIGHT
TZOFFSETFROM:+0000
TZOFFSETTO:+0100
TZNAME:BST
DTSTART:20250330T010000
END:DAYLIGHT
BEGIN:STANDARD
TZOFFSETFROM:+0100
TZOFFSETTO:+0000
TZNAME:GMT
DTSTART:20251026T010000
END:STANDARD
BEGIN:DAYLIGHT
TZOFFSETFROM:+0000
TZOFFSETTO:+0100
TZNAME:BST
DTSTART:20260329T010000
END:DAYLIGHT
BEGIN:STANDARD
TZOFFSETFROM:+0100
TZOFFSETTO:+0000
TZNAME:GMT
DTSTART:20261025T010000
END:STANDARD
END:VTIMEZONE
BEGIN:VEVENT
DTSTART;VALUE=DATE:20251110
DTEND;VALUE=DATE:20251111
DTSTAMP:20260422T035948
CREATED:20250907T172418Z
LAST-MODIFIED:20250907T172418Z
UID:3721-1762732800-1762819199@poplar-cit.co.uk
SUMMARY:Odd socks day
DESCRIPTION:
URL:https://poplar-cit.co.uk/event/odd-socks-day/
END:VEVENT
BEGIN:VEVENT
DTSTART;VALUE=DATE:20251110
DTEND;VALUE=DATE:20251111
DTSTAMP:20260422T035948
CREATED:20251006T150204Z
LAST-MODIFIED:20251006T150204Z
UID:4144-1762732800-1762819199@poplar-cit.co.uk
SUMMARY:Y5 & Y6 worry workshops with MHST
DESCRIPTION:
URL:https://poplar-cit.co.uk/event/y5-y6-worry-workshops-with-mhst/
END:VEVENT
BEGIN:VEVENT
DTSTART;VALUE=DATE:20251110
DTEND;VALUE=DATE:20251115
DTSTAMP:20260422T035948
CREATED:20250907T172332Z
LAST-MODIFIED:20250907T172332Z
UID:3719-1762732800-1763164799@poplar-cit.co.uk
SUMMARY:Anti-bullying week
DESCRIPTION:
URL:https://poplar-cit.co.uk/event/anti-bullying-week/
END:VEVENT
BEGIN:VEVENT
DTSTART;VALUE=DATE:20251110
DTEND;VALUE=DATE:20251115
DTSTAMP:20260422T035948
CREATED:20251006T150133Z
LAST-MODIFIED:20251006T150133Z
UID:4142-1762732800-1763164799@poplar-cit.co.uk
SUMMARY:World Nursery Rhyme Week
DESCRIPTION:
URL:https://poplar-cit.co.uk/event/world-nursery-rhyme-week/
END:VEVENT
BEGIN:VEVENT
DTSTART;TZID=Europe/London:20251110T093000
DTEND;TZID=Europe/London:20251110T103000
DTSTAMP:20260422T035948
CREATED:20250909T205744Z
LAST-MODIFIED:20250909T205744Z
UID:3797-1762767000-1762770600@poplar-cit.co.uk
SUMMARY:Open morning for September 2026 starters
DESCRIPTION:
URL:https://poplar-cit.co.uk/event/open-morning-for-september-2026-starters/
END:VEVENT
BEGIN:VEVENT
DTSTART;TZID=Europe/London:20251110T193000
DTEND;TZID=Europe/London:20251110T203000
DTSTAMP:20260422T035948
CREATED:20251017T183216Z
LAST-MODIFIED:20251017T183216Z
UID:4275-1762803000-1762806600@poplar-cit.co.uk
SUMMARY:FoP AGM
DESCRIPTION:
URL:https://poplar-cit.co.uk/event/fop-agm/
END:VEVENT
END:VCALENDAR