BEGIN:VCALENDAR
VERSION:2.0
PRODID:-//Poplar Farm School - ECPv6.15.20//NONSGML v1.0//EN
CALSCALE:GREGORIAN
METHOD:PUBLISH
X-WR-CALNAME:Poplar Farm School
X-ORIGINAL-URL:https://poplar-cit.co.uk
X-WR-CALDESC:Events for Poplar Farm School
REFRESH-INTERVAL;VALUE=DURATION:PT1H
X-Robots-Tag:noindex
X-PUBLISHED-TTL:PT1H
BEGIN:VTIMEZONE
TZID:Europe/London
BEGIN:DAYLIGHT
TZOFFSETFROM:+0000
TZOFFSETTO:+0100
TZNAME:BST
DTSTART:20240331T010000
END:DAYLIGHT
BEGIN:STANDARD
TZOFFSETFROM:+0100
TZOFFSETTO:+0000
TZNAME:GMT
DTSTART:20241027T010000
END:STANDARD
BEGIN:DAYLIGHT
TZOFFSETFROM:+0000
TZOFFSETTO:+0100
TZNAME:BST
DTSTART:20250330T010000
END:DAYLIGHT
BEGIN:STANDARD
TZOFFSETFROM:+0100
TZOFFSETTO:+0000
TZNAME:GMT
DTSTART:20251026T010000
END:STANDARD
BEGIN:DAYLIGHT
TZOFFSETFROM:+0000
TZOFFSETTO:+0100
TZNAME:BST
DTSTART:20260329T010000
END:DAYLIGHT
BEGIN:STANDARD
TZOFFSETFROM:+0100
TZOFFSETTO:+0000
TZNAME:GMT
DTSTART:20261025T010000
END:STANDARD
END:VTIMEZONE
BEGIN:VEVENT
DTSTART;VALUE=DATE:20251104
DTEND;VALUE=DATE:20251105
DTSTAMP:20260422T035932
CREATED:20250907T174019Z
LAST-MODIFIED:20250907T174019Z
UID:3760-1762214400-1762300799@poplar-cit.co.uk
SUMMARY:First day of term 2
DESCRIPTION:
URL:https://poplar-cit.co.uk/event/first-day-of-term-2-2/
END:VEVENT
BEGIN:VEVENT
DTSTART;TZID=Europe/London:20251104T090000
DTEND;TZID=Europe/London:20251104T100000
DTSTAMP:20260422T035932
CREATED:20251019T125546Z
LAST-MODIFIED:20251019T125546Z
UID:4282-1762246800-1762250400@poplar-cit.co.uk
SUMMARY:Coffee morning for parents / carers with the Senior Leadership Team
DESCRIPTION:
URL:https://poplar-cit.co.uk/event/coffee-morning-for-parents-carers-with-the-senior-leadership-team/
END:VEVENT
END:VCALENDAR