BEGIN:VCALENDAR
VERSION:2.0
PRODID:-//Poplar Farm School - ECPv6.15.20//NONSGML v1.0//EN
CALSCALE:GREGORIAN
METHOD:PUBLISH
X-WR-CALNAME:Poplar Farm School
X-ORIGINAL-URL:https://poplar-cit.co.uk
X-WR-CALDESC:Events for Poplar Farm School
REFRESH-INTERVAL;VALUE=DURATION:PT1H
X-Robots-Tag:noindex
X-PUBLISHED-TTL:PT1H
BEGIN:VTIMEZONE
TZID:Europe/London
BEGIN:DAYLIGHT
TZOFFSETFROM:+0000
TZOFFSETTO:+0100
TZNAME:BST
DTSTART:20240331T010000
END:DAYLIGHT
BEGIN:STANDARD
TZOFFSETFROM:+0100
TZOFFSETTO:+0000
TZNAME:GMT
DTSTART:20241027T010000
END:STANDARD
BEGIN:DAYLIGHT
TZOFFSETFROM:+0000
TZOFFSETTO:+0100
TZNAME:BST
DTSTART:20250330T010000
END:DAYLIGHT
BEGIN:STANDARD
TZOFFSETFROM:+0100
TZOFFSETTO:+0000
TZNAME:GMT
DTSTART:20251026T010000
END:STANDARD
BEGIN:DAYLIGHT
TZOFFSETFROM:+0000
TZOFFSETTO:+0100
TZNAME:BST
DTSTART:20260329T010000
END:DAYLIGHT
BEGIN:STANDARD
TZOFFSETFROM:+0100
TZOFFSETTO:+0000
TZNAME:GMT
DTSTART:20261025T010000
END:STANDARD
END:VTIMEZONE
BEGIN:VEVENT
DTSTART;VALUE=DATE:20251022
DTEND;VALUE=DATE:20251025
DTSTAMP:20260422T071958
CREATED:20250718T133645Z
LAST-MODIFIED:20250718T133645Z
UID:3385-1761091200-1761350399@poplar-cit.co.uk
SUMMARY:Y6 residential visit to Grafham Water
DESCRIPTION:
URL:https://poplar-cit.co.uk/event/y6-residential-visit-to-grafham-water/
END:VEVENT
BEGIN:VEVENT
DTSTART;TZID=Europe/London:20251022T090000
DTEND;TZID=Europe/London:20251022T100000
DTSTAMP:20260422T071958
CREATED:20250718T134237Z
LAST-MODIFIED:20251013T152327Z
UID:3401-1761123600-1761127200@poplar-cit.co.uk
SUMMARY:MHST parent workshop
DESCRIPTION:
URL:https://poplar-cit.co.uk/event/mhst-parent-workshop/
END:VEVENT
BEGIN:VEVENT
DTSTART;TZID=Europe/London:20251022T100000
DTEND;TZID=Europe/London:20251022T113000
DTSTAMP:20260422T071958
CREATED:20251003T153042Z
LAST-MODIFIED:20251003T153042Z
UID:4133-1761127200-1761132600@poplar-cit.co.uk
SUMMARY:Well Being Ambassadors to Newton House
DESCRIPTION:
URL:https://poplar-cit.co.uk/event/well-being-ambassadors-to-newton-house-2/
END:VEVENT
BEGIN:VEVENT
DTSTART;TZID=Europe/London:20251022T143000
DTEND;TZID=Europe/London:20251022T150000
DTSTAMP:20260422T071958
CREATED:20250718T133919Z
LAST-MODIFIED:20250718T133919Z
UID:3387-1761143400-1761145200@poplar-cit.co.uk
SUMMARY:Y1 shared learning event with parents
DESCRIPTION:
URL:https://poplar-cit.co.uk/event/y1-shared-learning-event-with-parents/
END:VEVENT
END:VCALENDAR