BEGIN:VCALENDAR
VERSION:2.0
PRODID:-//Poplar Farm School - ECPv6.15.20//NONSGML v1.0//EN
CALSCALE:GREGORIAN
METHOD:PUBLISH
X-ORIGINAL-URL:https://poplar-cit.co.uk
X-WR-CALDESC:Events for Poplar Farm School
REFRESH-INTERVAL;VALUE=DURATION:PT1H
X-Robots-Tag:noindex
X-PUBLISHED-TTL:PT1H
BEGIN:VTIMEZONE
TZID:Europe/London
BEGIN:DAYLIGHT
TZOFFSETFROM:+0000
TZOFFSETTO:+0100
TZNAME:BST
DTSTART:20240331T010000
END:DAYLIGHT
BEGIN:STANDARD
TZOFFSETFROM:+0100
TZOFFSETTO:+0000
TZNAME:GMT
DTSTART:20241027T010000
END:STANDARD
BEGIN:DAYLIGHT
TZOFFSETFROM:+0000
TZOFFSETTO:+0100
TZNAME:BST
DTSTART:20250330T010000
END:DAYLIGHT
BEGIN:STANDARD
TZOFFSETFROM:+0100
TZOFFSETTO:+0000
TZNAME:GMT
DTSTART:20251026T010000
END:STANDARD
BEGIN:DAYLIGHT
TZOFFSETFROM:+0000
TZOFFSETTO:+0100
TZNAME:BST
DTSTART:20260329T010000
END:DAYLIGHT
BEGIN:STANDARD
TZOFFSETFROM:+0100
TZOFFSETTO:+0000
TZNAME:GMT
DTSTART:20261025T010000
END:STANDARD
END:VTIMEZONE
BEGIN:VEVENT
DTSTART;TZID=Europe/London:20251020T143000
DTEND;TZID=Europe/London:20251020T150000
DTSTAMP:20260422T050022
CREATED:20250718T134039Z
LAST-MODIFIED:20250718T134039Z
UID:3393-1760970600-1760972400@poplar-cit.co.uk
SUMMARY:Y2 shared learning event with parents
DESCRIPTION:
URL:https://poplar-cit.co.uk/event/y2-shared-learning-event-with-parents/
END:VEVENT
BEGIN:VEVENT
DTSTART;TZID=Europe/London:20251020T160000
DTEND;TZID=Europe/London:20251020T170000
DTSTAMP:20260422T050022
CREATED:20251008T140609Z
LAST-MODIFIED:20251008T140609Z
UID:4240-1760976000-1760979600@poplar-cit.co.uk
SUMMARY:Y7 meet Y6
DESCRIPTION:
URL:https://poplar-cit.co.uk/event/y7-meet-y6/
END:VEVENT
END:VCALENDAR