BEGIN:VCALENDAR
VERSION:2.0
PRODID:-//Poplar Farm School - ECPv6.15.20//NONSGML v1.0//EN
CALSCALE:GREGORIAN
METHOD:PUBLISH
X-WR-CALNAME:Poplar Farm School
X-ORIGINAL-URL:https://poplar-cit.co.uk
X-WR-CALDESC:Events for Poplar Farm School
REFRESH-INTERVAL;VALUE=DURATION:PT1H
X-Robots-Tag:noindex
X-PUBLISHED-TTL:PT1H
BEGIN:VTIMEZONE
TZID:Europe/London
BEGIN:DAYLIGHT
TZOFFSETFROM:+0000
TZOFFSETTO:+0100
TZNAME:BST
DTSTART:20240331T010000
END:DAYLIGHT
BEGIN:STANDARD
TZOFFSETFROM:+0100
TZOFFSETTO:+0000
TZNAME:GMT
DTSTART:20241027T010000
END:STANDARD
BEGIN:DAYLIGHT
TZOFFSETFROM:+0000
TZOFFSETTO:+0100
TZNAME:BST
DTSTART:20250330T010000
END:DAYLIGHT
BEGIN:STANDARD
TZOFFSETFROM:+0100
TZOFFSETTO:+0000
TZNAME:GMT
DTSTART:20251026T010000
END:STANDARD
BEGIN:DAYLIGHT
TZOFFSETFROM:+0000
TZOFFSETTO:+0100
TZNAME:BST
DTSTART:20260329T010000
END:DAYLIGHT
BEGIN:STANDARD
TZOFFSETFROM:+0100
TZOFFSETTO:+0000
TZNAME:GMT
DTSTART:20261025T010000
END:STANDARD
END:VTIMEZONE
BEGIN:VEVENT
DTSTART;VALUE=DATE:20250905
DTEND;VALUE=DATE:20250906
DTSTAMP:20260422T082920
CREATED:20250706T203742Z
LAST-MODIFIED:20250706T203742Z
UID:3326-1757030400-1757116799@poplar-cit.co.uk
SUMMARY:KS2 Rights Respecting Rangers to visit The Houses of Parliament
DESCRIPTION:
URL:https://poplar-cit.co.uk/event/ks2-rights-respecting-rangers-to-visit-the-houses-of-parliament/
END:VEVENT
BEGIN:VEVENT
DTSTART;TZID=Europe/London:20250905T153000
DTEND;TZID=Europe/London:20250905T160000
DTSTAMP:20260422T082920
CREATED:20250718T135708Z
LAST-MODIFIED:20250718T135708Z
UID:3453-1757086200-1757088000@poplar-cit.co.uk
SUMMARY:Y4 year ahead meeting for parents
DESCRIPTION:
URL:https://poplar-cit.co.uk/event/y4-year-ahead-meeting-for-parents/
END:VEVENT
END:VCALENDAR