BEGIN:VCALENDAR
VERSION:2.0
PRODID:-//Poplar Farm School - ECPv6.15.20//NONSGML v1.0//EN
CALSCALE:GREGORIAN
METHOD:PUBLISH
X-ORIGINAL-URL:https://poplar-cit.co.uk
X-WR-CALDESC:Events for Poplar Farm School
REFRESH-INTERVAL;VALUE=DURATION:PT1H
X-Robots-Tag:noindex
X-PUBLISHED-TTL:PT1H
BEGIN:VTIMEZONE
TZID:Europe/London
BEGIN:DAYLIGHT
TZOFFSETFROM:+0000
TZOFFSETTO:+0100
TZNAME:BST
DTSTART:20240331T010000
END:DAYLIGHT
BEGIN:STANDARD
TZOFFSETFROM:+0100
TZOFFSETTO:+0000
TZNAME:GMT
DTSTART:20241027T010000
END:STANDARD
BEGIN:DAYLIGHT
TZOFFSETFROM:+0000
TZOFFSETTO:+0100
TZNAME:BST
DTSTART:20250330T010000
END:DAYLIGHT
BEGIN:STANDARD
TZOFFSETFROM:+0100
TZOFFSETTO:+0000
TZNAME:GMT
DTSTART:20251026T010000
END:STANDARD
BEGIN:DAYLIGHT
TZOFFSETFROM:+0000
TZOFFSETTO:+0100
TZNAME:BST
DTSTART:20260329T010000
END:DAYLIGHT
BEGIN:STANDARD
TZOFFSETFROM:+0100
TZOFFSETTO:+0000
TZNAME:GMT
DTSTART:20261025T010000
END:STANDARD
END:VTIMEZONE
BEGIN:VEVENT
DTSTART;VALUE=DATE:20250722
DTEND;VALUE=DATE:20250723
DTSTAMP:20260422T133242
CREATED:20250527T160446Z
LAST-MODIFIED:20250527T160446Z
UID:1877-1753142400-1753228799@poplar-cit.co.uk
SUMMARY:Last day of term 6
DESCRIPTION:
URL:https://poplar-cit.co.uk/event/last-day-of-term-6/
END:VEVENT
BEGIN:VEVENT
DTSTART;TZID=Europe/London:20250722T083000
DTEND;TZID=Europe/London:20250722T084500
DTSTAMP:20260422T133242
CREATED:20250527T160519Z
LAST-MODIFIED:20250527T160519Z
UID:1879-1753173000-1753173900@poplar-cit.co.uk
SUMMARY:Y6 parade to school
DESCRIPTION:
URL:https://poplar-cit.co.uk/event/y6-parade-to-school/
END:VEVENT
BEGIN:VEVENT
DTSTART;TZID=Europe/London:20250722T140000
DTEND;TZID=Europe/London:20250722T150000
DTSTAMP:20260422T133242
CREATED:20250527T160553Z
LAST-MODIFIED:20250527T160553Z
UID:1881-1753192800-1753196400@poplar-cit.co.uk
SUMMARY:Y6 Leavers' Assembly
DESCRIPTION:
URL:https://poplar-cit.co.uk/event/y6-leavers-assembly/
END:VEVENT
END:VCALENDAR