BEGIN:VCALENDAR
VERSION:2.0
PRODID:-//Poplar Farm School - ECPv6.15.20//NONSGML v1.0//EN
CALSCALE:GREGORIAN
METHOD:PUBLISH
X-WR-CALNAME:Poplar Farm School
X-ORIGINAL-URL:https://poplar-cit.co.uk
X-WR-CALDESC:Events for Poplar Farm School
REFRESH-INTERVAL;VALUE=DURATION:PT1H
X-Robots-Tag:noindex
X-PUBLISHED-TTL:PT1H
BEGIN:VTIMEZONE
TZID:Europe/London
BEGIN:DAYLIGHT
TZOFFSETFROM:+0000
TZOFFSETTO:+0100
TZNAME:BST
DTSTART:20240331T010000
END:DAYLIGHT
BEGIN:STANDARD
TZOFFSETFROM:+0100
TZOFFSETTO:+0000
TZNAME:GMT
DTSTART:20241027T010000
END:STANDARD
BEGIN:DAYLIGHT
TZOFFSETFROM:+0000
TZOFFSETTO:+0100
TZNAME:BST
DTSTART:20250330T010000
END:DAYLIGHT
BEGIN:STANDARD
TZOFFSETFROM:+0100
TZOFFSETTO:+0000
TZNAME:GMT
DTSTART:20251026T010000
END:STANDARD
BEGIN:DAYLIGHT
TZOFFSETFROM:+0000
TZOFFSETTO:+0100
TZNAME:BST
DTSTART:20260329T010000
END:DAYLIGHT
BEGIN:STANDARD
TZOFFSETFROM:+0100
TZOFFSETTO:+0000
TZNAME:GMT
DTSTART:20261025T010000
END:STANDARD
END:VTIMEZONE
BEGIN:VEVENT
DTSTART;TZID=Europe/London:20250718T100000
DTEND;TZID=Europe/London:20250718T110000
DTSTAMP:20260422T133222
CREATED:20250527T160321Z
LAST-MODIFIED:20250527T160321Z
UID:1871-1752832800-1752836400@poplar-cit.co.uk
SUMMARY:Staff v Y6 rounders match
DESCRIPTION:
URL:https://poplar-cit.co.uk/event/staff-v-y6-rounders-match/
END:VEVENT
BEGIN:VEVENT
DTSTART;TZID=Europe/London:20250718T100000
DTEND;TZID=Europe/London:20250718T113000
DTSTAMP:20260422T133222
CREATED:20250718T133943Z
LAST-MODIFIED:20250718T133943Z
UID:3389-1752832800-1752838200@poplar-cit.co.uk
SUMMARY:Well Being Ambassadors visit to Newton House
DESCRIPTION:
URL:https://poplar-cit.co.uk/event/well-being-ambassadors-visit-to-newton-house/
END:VEVENT
BEGIN:VEVENT
DTSTART;TZID=Europe/London:20250718T170000
DTEND;TZID=Europe/London:20250718T193000
DTSTAMP:20260422T133222
CREATED:20250527T160357Z
LAST-MODIFIED:20250527T160357Z
UID:1873-1752858000-1752867000@poplar-cit.co.uk
SUMMARY:Y6 Leavers' Party
DESCRIPTION:
URL:https://poplar-cit.co.uk/event/y6-leavers-party/
END:VEVENT
END:VCALENDAR