BEGIN:VCALENDAR
VERSION:2.0
PRODID:-//Poplar Farm School - ECPv6.15.20//NONSGML v1.0//EN
CALSCALE:GREGORIAN
METHOD:PUBLISH
X-ORIGINAL-URL:https://poplar-cit.co.uk
X-WR-CALDESC:Events for Poplar Farm School
REFRESH-INTERVAL;VALUE=DURATION:PT1H
X-Robots-Tag:noindex
X-PUBLISHED-TTL:PT1H
BEGIN:VTIMEZONE
TZID:Europe/London
BEGIN:DAYLIGHT
TZOFFSETFROM:+0000
TZOFFSETTO:+0100
TZNAME:BST
DTSTART:20240331T010000
END:DAYLIGHT
BEGIN:STANDARD
TZOFFSETFROM:+0100
TZOFFSETTO:+0000
TZNAME:GMT
DTSTART:20241027T010000
END:STANDARD
BEGIN:DAYLIGHT
TZOFFSETFROM:+0000
TZOFFSETTO:+0100
TZNAME:BST
DTSTART:20250330T010000
END:DAYLIGHT
BEGIN:STANDARD
TZOFFSETFROM:+0100
TZOFFSETTO:+0000
TZNAME:GMT
DTSTART:20251026T010000
END:STANDARD
BEGIN:DAYLIGHT
TZOFFSETFROM:+0000
TZOFFSETTO:+0100
TZNAME:BST
DTSTART:20260329T010000
END:DAYLIGHT
BEGIN:STANDARD
TZOFFSETFROM:+0100
TZOFFSETTO:+0000
TZNAME:GMT
DTSTART:20261025T010000
END:STANDARD
END:VTIMEZONE
BEGIN:VEVENT
DTSTART;VALUE=DATE:20250707
DTEND;VALUE=DATE:20250712
DTSTAMP:20260422T094449
CREATED:20250527T155828Z
LAST-MODIFIED:20250527T155828Z
UID:1849-1751846400-1752278399@poplar-cit.co.uk
SUMMARY:Wheelchair Sports Week
DESCRIPTION:
URL:https://poplar-cit.co.uk/event/wheelchair-sports-week/
END:VEVENT
BEGIN:VEVENT
DTSTART;VALUE=DATE:20250708
DTEND;VALUE=DATE:20250709
DTSTAMP:20260422T094449
CREATED:20250527T155915Z
LAST-MODIFIED:20250527T155915Z
UID:1853-1751932800-1752019199@poplar-cit.co.uk
SUMMARY:EYFS trip to the seaside
DESCRIPTION:
URL:https://poplar-cit.co.uk/event/eyfs-trip-to-the-seaside/
END:VEVENT
BEGIN:VEVENT
DTSTART;TZID=Europe/London:20250708T090000
DTEND;TZID=Europe/London:20250708T120000
DTSTAMP:20260422T094449
CREATED:20250527T155944Z
LAST-MODIFIED:20250527T155944Z
UID:1855-1751965200-1751976000@poplar-cit.co.uk
SUMMARY:Y6 Magistrates Workshop
DESCRIPTION:
URL:https://poplar-cit.co.uk/event/y6-magistrates-workshop/
END:VEVENT
END:VCALENDAR