BEGIN:VCALENDAR
VERSION:2.0
PRODID:-//Poplar Farm School - ECPv6.15.20//NONSGML v1.0//EN
CALSCALE:GREGORIAN
METHOD:PUBLISH
X-ORIGINAL-URL:https://poplar-cit.co.uk
X-WR-CALDESC:Events for Poplar Farm School
REFRESH-INTERVAL;VALUE=DURATION:PT1H
X-Robots-Tag:noindex
X-PUBLISHED-TTL:PT1H
BEGIN:VTIMEZONE
TZID:Europe/London
BEGIN:DAYLIGHT
TZOFFSETFROM:+0000
TZOFFSETTO:+0100
TZNAME:BST
DTSTART:20240331T010000
END:DAYLIGHT
BEGIN:STANDARD
TZOFFSETFROM:+0100
TZOFFSETTO:+0000
TZNAME:GMT
DTSTART:20241027T010000
END:STANDARD
BEGIN:DAYLIGHT
TZOFFSETFROM:+0000
TZOFFSETTO:+0100
TZNAME:BST
DTSTART:20250330T010000
END:DAYLIGHT
BEGIN:STANDARD
TZOFFSETFROM:+0100
TZOFFSETTO:+0000
TZNAME:GMT
DTSTART:20251026T010000
END:STANDARD
BEGIN:DAYLIGHT
TZOFFSETFROM:+0000
TZOFFSETTO:+0100
TZNAME:BST
DTSTART:20260329T010000
END:DAYLIGHT
BEGIN:STANDARD
TZOFFSETFROM:+0100
TZOFFSETTO:+0000
TZNAME:GMT
DTSTART:20261025T010000
END:STANDARD
END:VTIMEZONE
BEGIN:VEVENT
DTSTART;VALUE=DATE:20250701
DTEND;VALUE=DATE:20250704
DTSTAMP:20260422T133243
CREATED:20250630T074350Z
LAST-MODIFIED:20250630T074350Z
UID:3313-1751328000-1751587199@poplar-cit.co.uk
SUMMARY:Y6 transition day at Walton Academy
DESCRIPTION:
URL:https://poplar-cit.co.uk/event/y6-transition-day-at-walton-academy/
END:VEVENT
BEGIN:VEVENT
DTSTART;VALUE=DATE:20250703
DTEND;VALUE=DATE:20250704
DTSTAMP:20260422T133243
CREATED:20250527T155623Z
LAST-MODIFIED:20250527T155623Z
UID:1841-1751500800-1751587199@poplar-cit.co.uk
SUMMARY:Belarus\, Independence Day
DESCRIPTION:
URL:https://poplar-cit.co.uk/event/belarus-independence-day/
END:VEVENT
BEGIN:VEVENT
DTSTART;TZID=Europe/London:20250703T090000
DTEND;TZID=Europe/London:20250703T110000
DTSTAMP:20260422T133243
CREATED:20250527T155722Z
LAST-MODIFIED:20250527T155722Z
UID:1845-1751533200-1751540400@poplar-cit.co.uk
SUMMARY:Y3 online superhero's workshop
DESCRIPTION:
URL:https://poplar-cit.co.uk/event/y3-online-superheros-workshop/
END:VEVENT
END:VCALENDAR