BEGIN:VCALENDAR
VERSION:2.0
PRODID:-//Poplar Farm School - ECPv6.15.20//NONSGML v1.0//EN
CALSCALE:GREGORIAN
METHOD:PUBLISH
X-WR-CALNAME:Poplar Farm School
X-ORIGINAL-URL:https://poplar-cit.co.uk
X-WR-CALDESC:Events for Poplar Farm School
REFRESH-INTERVAL;VALUE=DURATION:PT1H
X-Robots-Tag:noindex
X-PUBLISHED-TTL:PT1H
BEGIN:VTIMEZONE
TZID:Europe/London
BEGIN:DAYLIGHT
TZOFFSETFROM:+0000
TZOFFSETTO:+0100
TZNAME:BST
DTSTART:20240331T010000
END:DAYLIGHT
BEGIN:STANDARD
TZOFFSETFROM:+0100
TZOFFSETTO:+0000
TZNAME:GMT
DTSTART:20241027T010000
END:STANDARD
BEGIN:DAYLIGHT
TZOFFSETFROM:+0000
TZOFFSETTO:+0100
TZNAME:BST
DTSTART:20250330T010000
END:DAYLIGHT
BEGIN:STANDARD
TZOFFSETFROM:+0100
TZOFFSETTO:+0000
TZNAME:GMT
DTSTART:20251026T010000
END:STANDARD
BEGIN:DAYLIGHT
TZOFFSETFROM:+0000
TZOFFSETTO:+0100
TZNAME:BST
DTSTART:20260329T010000
END:DAYLIGHT
BEGIN:STANDARD
TZOFFSETFROM:+0100
TZOFFSETTO:+0000
TZNAME:GMT
DTSTART:20261025T010000
END:STANDARD
END:VTIMEZONE
BEGIN:VEVENT
DTSTART;VALUE=DATE:20250630
DTEND;VALUE=DATE:20250701
DTSTAMP:20260422T105419
CREATED:20250527T155351Z
LAST-MODIFIED:20250527T155351Z
UID:1829-1751241600-1751327999@poplar-cit.co.uk
SUMMARY:End of year reports home to parents
DESCRIPTION:
URL:https://poplar-cit.co.uk/event/end-of-year-reports-home-to-parents/
END:VEVENT
BEGIN:VEVENT
DTSTART;VALUE=DATE:20250630
DTEND;VALUE=DATE:20250703
DTSTAMP:20260422T105419
CREATED:20250527T155327Z
LAST-MODIFIED:20250630T074324Z
UID:1827-1751241600-1751500799@poplar-cit.co.uk
SUMMARY:Y6 transition day at West Grantham Academy
DESCRIPTION:
URL:https://poplar-cit.co.uk/event/y6-transition-day-at-walton-academy-west-grantham-academy/
END:VEVENT
BEGIN:VEVENT
DTSTART;TZID=Europe/London:20250630T090000
DTEND;TZID=Europe/London:20250630T100000
DTSTAMP:20260422T105419
CREATED:20250629T204907Z
LAST-MODIFIED:20250629T204907Z
UID:3307-1751274000-1751277600@poplar-cit.co.uk
SUMMARY:SEND Coffee Morning
DESCRIPTION:
URL:https://poplar-cit.co.uk/event/send-coffee-morning/
END:VEVENT
BEGIN:VEVENT
DTSTART;TZID=Europe/London:20250630T163000
DTEND;TZID=Europe/London:20250630T173000
DTSTAMP:20260422T105419
CREATED:20250527T155421Z
LAST-MODIFIED:20250527T155421Z
UID:1831-1751301000-1751304600@poplar-cit.co.uk
SUMMARY:Y6 parental transition meeting - Walton Academy
DESCRIPTION:
URL:https://poplar-cit.co.uk/event/y6-parental-transition-meeting-walton-academy/
END:VEVENT
END:VCALENDAR